BEGIN:VCALENDAR
VERSION:2.0
PRODID:-//Campus Virtual del Colegio de Escribanos de la Ciudad de Buenos Aires - ECPv4.6//NONSGML v1.0//EN
CALSCALE:GREGORIAN
METHOD:PUBLISH
X-WR-CALNAME:Campus Virtual del Colegio de Escribanos de la Ciudad de Buenos Aires
X-ORIGINAL-URL:https://campusvirtual.colegio-escribanos.org.ar
X-WR-CALDESC:Events for Campus Virtual del Colegio de Escribanos de la Ciudad de Buenos Aires
BEGIN:VEVENT
DTSTART;TZID=America/Argentina/Buenos_Aires:20240507T100000
DTEND;TZID=America/Argentina/Buenos_Aires:20240507T120000
DTSTAMP:20260422T213207
CREATED:20240429T174634Z
LAST-MODIFIED:20240429T192917Z
UID:7362-1715076000-1715083200@campusvirtual.colegio-escribanos.org.ar
SUMMARY:Actas de comprobación en entornos digitales. Marco teórico. Constatación de páginas web y videoconferencia (Parte I)
DESCRIPTION:A cargo de los escribanos Cecilia García Puente\, Santiago Reibestein y Daniela Celentano. \nOrganizan: Comisión de Innovación y Comisión de Integración Profesional \nMartes 7 de mayo\, 10 horas\, 7º piso\, Av. Las Heras 1833 \nVálido para el cumplimiento de los artículos 38 y 39\, Ley 404. \nHaga clic aquí para inscribirse \n
URL:https://campusvirtual.colegio-escribanos.org.ar/index.php/event/actas-de-comprobacion-en-entornos-digitales-marco-teorico-constatacion-de-paginas-web-y-videoconferencia-parte-i/
LOCATION:Av. Las Heras 1833\, Ciudad Autónoma de Buenos Aires\, Argentina
GEO:-34.591248;-58.392025
X-APPLE-STRUCTURED-LOCATION;VALUE=URI;X-ADDRESS=Av. Las Heras 1833 Ciudad Autónoma de Buenos Aires Argentina;X-APPLE-RADIUS=500;X-TITLE=Av. Las Heras 1833:geo:-58.392025,-34.591248
CATEGORIES:Cursos presenciales (Válidos Ley 404)
ORGANIZER;CN="Colegio%20de%20Escribanos%20de%20la%20Ciudad%20de%20Buenos%20Aires":MAILTO:cursos@colegio-escribanos.org.ar
END:VEVENT
END:VCALENDAR