BEGIN:VCALENDAR
VERSION:2.0
PRODID:-//Campus Virtual del Colegio de Escribanos de la Ciudad de Buenos Aires - ECPv4.6//NONSGML v1.0//EN
CALSCALE:GREGORIAN
METHOD:PUBLISH
X-WR-CALNAME:Campus Virtual del Colegio de Escribanos de la Ciudad de Buenos Aires
X-ORIGINAL-URL:https://campusvirtual.colegio-escribanos.org.ar
X-WR-CALDESC:Events for Campus Virtual del Colegio de Escribanos de la Ciudad de Buenos Aires
BEGIN:VEVENT
DTSTART;TZID=America/Argentina/Buenos_Aires:20231108T100000
DTEND;TZID=America/Argentina/Buenos_Aires:20231108T120000
DTSTAMP:20260423T040250
CREATED:20231030T150117Z
LAST-MODIFIED:20231030T175156Z
UID:7127-1699437600-1699444800@campusvirtual.colegio-escribanos.org.ar
SUMMARY:Café Notarial a cargo de la Comisión de DDHH\, Personalísimos y Autoprotección.
DESCRIPTION:Miércoles 8 de noviembre\, de 10 a 12 h | Salón Soldi\, Av. Callao 1542\nTema: Autoprotección y vivienda \nRecordamos que este formato consiste en pequeñas reuniones de 25 asistentes\, durante las cuales se analizan casos prácticos del quehacer notarial y se busca\, al mismo tiempo\, afianzar los lazos profesionales\, a través del intercambio entre colegas. Se trabaja sobre casos planteados por los participantes para aportarles un marco teórico que les sirva como instancia práctica de formación. \nLas preguntas podrán ser remitidas previamente a: cursos@colegio-escribanos.org.ar. Por tratarse de una actividad con vacantes limitadas\, los interesados en participar deberán realizar la inscripción previa. \nHaga clic aquí para inscribirse \nVálidos cumplimiento de los artículos 38 y 39 de la Ley 404. \n
URL:https://campusvirtual.colegio-escribanos.org.ar/index.php/event/cafe-notarial-a-cargo-de-la-comision-de-ddhh-personalisimos-y-autoproteccion/
LOCATION:Av. Callao 1542\, Ciudad de Buenos Aires\, Argentina
CATEGORIES:Cursos presenciales (Válidos Ley 404)
ORGANIZER;CN="Colegio%20de%20Escribanos%20de%20la%20Ciudad%20de%20Buenos%20Aires":MAILTO:cursos@colegio-escribanos.org.ar
END:VEVENT
END:VCALENDAR