BEGIN:VCALENDAR
VERSION:2.0
PRODID:-//Campus Virtual del Colegio de Escribanos de la Ciudad de Buenos Aires - ECPv4.6//NONSGML v1.0//EN
CALSCALE:GREGORIAN
METHOD:PUBLISH
X-WR-CALNAME:Campus Virtual del Colegio de Escribanos de la Ciudad de Buenos Aires
X-ORIGINAL-URL:https://campusvirtual.colegio-escribanos.org.ar
X-WR-CALDESC:Events for Campus Virtual del Colegio de Escribanos de la Ciudad de Buenos Aires
BEGIN:VEVENT
DTSTART;TZID=America/Argentina/Buenos_Aires:20221116T100000
DTEND;TZID=America/Argentina/Buenos_Aires:20221116T120000
DTSTAMP:20260423T195957
CREATED:20221101T130030Z
LAST-MODIFIED:20221101T131951Z
UID:6405-1668592800-1668600000@campusvirtual.colegio-escribanos.org.ar
SUMMARY:Café Notarial a cargo de la Comisión de Escribanos Referencistas
DESCRIPTION:La labor del escribano Referencista en el ámbito judicial. Observaciones frecuentes\nMiércoles 16 de noviembre\, 10 h \nRestó del Colegio\, Av. Callo 1542\, 2º piso \nVálido arts. 38 y 39 de la Ley 404 \nInscripción para escribanos de CABA\n
URL:https://campusvirtual.colegio-escribanos.org.ar/index.php/event/cafe-notarial-a-cargo-de-la-comision-de-escribanos-referencistas/
LOCATION:Av. Callao 1542\, 2º piso\, Ciudad de Buenos Aires\, Argentina
CATEGORIES:Cursos presenciales,Cursos presenciales (Válidos Ley 404)
ORGANIZER;CN="Colegio%20de%20Escribanos%20de%20la%20Ciudad%20de%20Buenos%20Aires":MAILTO:cursos@colegio-escribanos.org.ar
END:VEVENT
END:VCALENDAR