BEGIN:VCALENDAR
VERSION:2.0
PRODID:-//Campus Virtual del Colegio de Escribanos de la Ciudad de Buenos Aires - ECPv4.6//NONSGML v1.0//EN
CALSCALE:GREGORIAN
METHOD:PUBLISH
X-WR-CALNAME:Campus Virtual del Colegio de Escribanos de la Ciudad de Buenos Aires
X-ORIGINAL-URL:https://campusvirtual.colegio-escribanos.org.ar
X-WR-CALDESC:Events for Campus Virtual del Colegio de Escribanos de la Ciudad de Buenos Aires
BEGIN:VEVENT
DTSTART;TZID=America/Argentina/Buenos_Aires:20221004T100000
DTEND;TZID=America/Argentina/Buenos_Aires:20221004T120000
DTSTAMP:20260420T095549
CREATED:20220926T140613Z
LAST-MODIFIED:20220930T142600Z
UID:6224-1664877600-1664884800@campusvirtual.colegio-escribanos.org.ar
SUMMARY:Café Notarial a cargo del Instituto de Derecho Comercial
DESCRIPTION:MODALIDAD PRESENCIAL \nEl Colegio tiene el agrado de informar un nuevo “Café Notarial” en modalidad presencial\, el martes 4 de octubre\, de 10 a 12 h\, en el Salón comedor\, del 2° piso de Av. Callao 1542. \nEn esta oportunidad\, el encuentro estará a cargo del Instituto de Derecho Comercial y se abordarán\, entre otros temas\, cuestiones vinculadas a las Resoluciones de la Inspección General de Justicia (IGJ) en la actuación notarial. \nRecordamos que este formato consiste en pequeñas reuniones de 25 asistentes\, durante las cuales se analizan casos prácticos del quehacer notarial y se busca\, al mismo tiempo\, afianzar los lazos profesionales\, a través del intercambio entre colegas. Se trabaja sobre casos planteados por los participantes para aportarles un marco teórico que les sirva como instancia práctica de formación. \nLas preguntas podrán ser remitidas previamente a: cursos@colegio-escribanos.org.ar. Por tratarse de una actividad con vacantes limitadas\, los interesados en participar deberán realizar la inscripción previa. \nEsta actividad es válida para el cumplimiento de los artículos 38 y 39 de la Ley 404. \nInscripción para escribanos de CABA\n  \nLos esperamos. \n
URL:https://campusvirtual.colegio-escribanos.org.ar/index.php/event/cafe-notarial-a-cargo-del-instituto-de-derecho-comercial/
LOCATION:Av. Callao 1542\, Ciudad de Buenos Aires\, Argentina
CATEGORIES:Cursos presenciales,Cursos presenciales (Válidos Ley 404)
ORGANIZER;CN="Colegio%20de%20Escribanos%20de%20la%20Ciudad%20de%20Buenos%20Aires":MAILTO:cursos@colegio-escribanos.org.ar
END:VEVENT
END:VCALENDAR