BEGIN:VCALENDAR
VERSION:2.0
PRODID:-//Campus Virtual del Colegio de Escribanos de la Ciudad de Buenos Aires - ECPv4.6//NONSGML v1.0//EN
CALSCALE:GREGORIAN
METHOD:PUBLISH
X-WR-CALNAME:Campus Virtual del Colegio de Escribanos de la Ciudad de Buenos Aires
X-ORIGINAL-URL:https://campusvirtual.colegio-escribanos.org.ar
X-WR-CALDESC:Events for Campus Virtual del Colegio de Escribanos de la Ciudad de Buenos Aires
BEGIN:VEVENT
DTSTART;TZID=America/Argentina/Buenos_Aires:20250522T100000
DTEND;TZID=America/Argentina/Buenos_Aires:20250522T120000
DTSTAMP:20260420T154520
CREATED:20250513T115516Z
LAST-MODIFIED:20250521T143657Z
UID:8074-1747908000-1747915200@campusvirtual.colegio-escribanos.org.ar
SUMMARY:Café Notarial a cargo de la Comisión Asesora de Arancel
DESCRIPTION:🗓️ Jueves 22 de mayo\, 10 a 12 h \n📍Salón Soldi\, Av. Callao 1542 \n🗣 A cargo de: integrantes de la Comisión Asesora de Arancel \n👉 Haga clic aquí para inscribirse  \nVálido cumplimiento de los arts. 38 y 39 de la Ley 404 \n
URL:https://campusvirtual.colegio-escribanos.org.ar/index.php/event/cafe-notarial-de-la-comision-de-arancel/
LOCATION:Av. Callao 1542\, Ciudad de Buenos Aires\, Argentina
CATEGORIES:Cursos presenciales,Cursos presenciales (Válidos Ley 404)
ORGANIZER;CN="Colegio%20de%20Escribanos%20de%20la%20Ciudad%20de%20Buenos%20Aires":MAILTO:cursos@colegio-escribanos.org.ar
END:VEVENT
END:VCALENDAR