BEGIN:VCALENDAR
VERSION:2.0
PRODID:-//Campus Virtual del Colegio de Escribanos de la Ciudad de Buenos Aires - ECPv4.6//NONSGML v1.0//EN
CALSCALE:GREGORIAN
METHOD:PUBLISH
X-WR-CALNAME:Campus Virtual del Colegio de Escribanos de la Ciudad de Buenos Aires
X-ORIGINAL-URL:https://campusvirtual.colegio-escribanos.org.ar
X-WR-CALDESC:Events for Campus Virtual del Colegio de Escribanos de la Ciudad de Buenos Aires
BEGIN:VEVENT
DTSTART;TZID=America/Argentina/Buenos_Aires:20251112T100000
DTEND;TZID=America/Argentina/Buenos_Aires:20251112T120000
DTSTAMP:20260421T020213
CREATED:20251028T154724Z
LAST-MODIFIED:20251030T160136Z
UID:8526-1762941600-1762948800@campusvirtual.colegio-escribanos.org.ar
SUMMARY:Café Notarial de la Comisión de Derechos Humanos\, Personalísimos y Autoprotección
DESCRIPTION:Nuevas tecnologías y personas mayores\, una mirada desde el derecho. Brecha digital vs. mejor calidad de vida. \n📆 Miércoles 12 de noviembre\, 10 a 12 h\n📍Av. Las Heras 1833\,  7° piso.\n🔉 A cargo de la Comisión de Derechos Humanos\, Personalísimos y Autoprotección \n  👉Haga clic aquí para inscribirse  \nVálido cumplimiento de los artículos 38 y 39 de la Ley 404 \n
URL:https://campusvirtual.colegio-escribanos.org.ar/index.php/event/cafe-notarial-de-la-comision-de-derechos-humanos-personalisimos-y-autoproteccion/
LOCATION:Av. Las Heras 1833\, Ciudad Autónoma de Buenos Aires\, Argentina
GEO:-34.591248;-58.392025
X-APPLE-STRUCTURED-LOCATION;VALUE=URI;X-ADDRESS=Av. Las Heras 1833 Ciudad Autónoma de Buenos Aires Argentina;X-APPLE-RADIUS=500;X-TITLE=Av. Las Heras 1833:geo:-58.392025,-34.591248
CATEGORIES:Cursos presenciales,Cursos presenciales (Válidos Ley 404)
ORGANIZER;CN="Colegio%20de%20Escribanos%20de%20la%20Ciudad%20de%20Buenos%20Aires":MAILTO:cursos@colegio-escribanos.org.ar
END:VEVENT
END:VCALENDAR