BEGIN:VCALENDAR
VERSION:2.0
PRODID:-//Campus Virtual del Colegio de Escribanos de la Ciudad de Buenos Aires - ECPv4.6//NONSGML v1.0//EN
CALSCALE:GREGORIAN
METHOD:PUBLISH
X-WR-CALNAME:Campus Virtual del Colegio de Escribanos de la Ciudad de Buenos Aires
X-ORIGINAL-URL:https://campusvirtual.colegio-escribanos.org.ar
X-WR-CALDESC:Events for Campus Virtual del Colegio de Escribanos de la Ciudad de Buenos Aires
BEGIN:VEVENT
DTSTART;TZID=America/Argentina/Buenos_Aires:20250625T100000
DTEND;TZID=America/Argentina/Buenos_Aires:20250625T120000
DTSTAMP:20260420T170937
CREATED:20250605T161440Z
LAST-MODIFIED:20250605T161619Z
UID:8139-1750845600-1750852800@campusvirtual.colegio-escribanos.org.ar
SUMMARY:Café Notarial del Instituto de Derecho Procesal
DESCRIPTION:Consultas frecuentes. Expediente digital; validación de resoluciones; tracto abreviado; levantamiento de medidas cautelares; actas de notificación. \n📆 Miércoles 25 de junio\, 10 a 12 h\n📍 Salón Soldi. Av. Callao 1542\n🔉 Disertantes: Integrantes del Instituto de Derecho Procesal \n👉Haga clic aquí para inscribirse  \nVálido cumplimiento de los artículos 38 y 39 de la Ley 404 \n  \n  \n
URL:https://campusvirtual.colegio-escribanos.org.ar/index.php/event/cafe-notarial-del-instituto-de-derecho-procesal/
LOCATION:Av. Callao 1542\, Ciudad de Buenos Aires\, Argentina
CATEGORIES:Cursos presenciales,Cursos presenciales (Válidos Ley 404)
ORGANIZER;CN="Colegio%20de%20Escribanos%20de%20la%20Ciudad%20de%20Buenos%20Aires":MAILTO:cursos@colegio-escribanos.org.ar
END:VEVENT
END:VCALENDAR