BEGIN:VCALENDAR
VERSION:2.0
PRODID:-//Campus Virtual del Colegio de Escribanos de la Ciudad de Buenos Aires - ECPv4.6//NONSGML v1.0//EN
CALSCALE:GREGORIAN
METHOD:PUBLISH
X-WR-CALNAME:Campus Virtual del Colegio de Escribanos de la Ciudad de Buenos Aires
X-ORIGINAL-URL:https://campusvirtual.colegio-escribanos.org.ar
X-WR-CALDESC:Events for Campus Virtual del Colegio de Escribanos de la Ciudad de Buenos Aires
BEGIN:VEVENT
DTSTART;TZID=America/Argentina/Buenos_Aires:20250910T090000
DTEND;TZID=America/Argentina/Buenos_Aires:20250910T110000
DTSTAMP:20260420T235417
CREATED:20250821T164930Z
LAST-MODIFIED:20250826T182118Z
UID:8411-1757494800-1757502000@campusvirtual.colegio-escribanos.org.ar
SUMMARY:Capacitación 360° | Quinto tema: ¡Naveguemos juntos! Página web del Colegio\, manejo de trámites y servicios disponibles
DESCRIPTION: \nQuinto Taller:\n¡Naveguemos juntos! Página web del Colegio\,\nmanejo de trámites y servicios disponibles \nDocentes: Esc. María Magdalena Tato\, Ramiro Chanes (División web) y Julián Mengido (Soporte Informático). \n\nPRESENCIAL: 10 de septiembre\, de 9 a 11 h\, Av. Las Heras 1833\, 8° piso.\nVIRTUAL: 17 de septiembre\, de 17.30 a 19.30 h\, a través de Zoom. Se enviará el link de acceso horas previas al curso.\n\nTEMARIO \nMapa general del sitio \n\nDirigido al público en general.\nInformación general para el notariado (libre y restringida).\nServicios web particulares de cada escribano.\n\nSoporte Informático: \n\nInstructivos\, donde encontrarlos.\nTrámites en Acceso Restringido (Migraciones\, automotores\, autorizaciones de manejo\, Trámites MEV\, Consulta de boletas de 404 y asistenciales\, Pedidos de copias al Archivo)\n2FA (doble factor de autenticación).\nClave para colaboradores/ pantalla disponible.\n\nEsc. María Magdalena Tato: \n\nSDF/GEDONO/Segundas copias digitales: Consultas frecuentes.\nTrámites durante la licencia del escribano\n\nCosto: $23.000 \nCURSO PRESENCIAL 10 DE SEPTIEMBRE \nCURSO VIRTUAL 17 DE SEPTIEMBRE  \nForma de pago:\nEl arancel por materia se abona en las Cajas del Colegio de Escribanos (1° entrepiso de Av. Las Heras 1833)\, en el horario de 9.30 a 15 h con tarjeta de débito o cheque personal de escribano\, o por transferencia bancaria. \nPara los pagos por transferencia se debe enviar el comprobante al Departamento de Cursos (cursos@colegio-escribanos.org.ar) y aclarar\, además: \nCUIT de la persona que transfiere\nNombre del titular de la cuenta\nNúmero de inscripción\nNombre de quien se inscribe\nDATOS CUENTA BANCARIA:\nBANCO SANTANDER RIO\nDENOMINACIÓN: COLEGIO DE ESCRIBANOS\nTIPO DE CUENTA: CTA. CTE.\nSUCURSAL: 167\nCTA CTE: 167-0012378/7\nCBU: 0720167320000001237872\nCUIT: 30-52649945-6 \nPor cuestiones pedagógicas hay un cupo mínimo y máximo para su realización. \n
URL:https://campusvirtual.colegio-escribanos.org.ar/index.php/event/capacitacion-360-quinto-tema-naveguemos-juntos-pagina-web-del-colegio-manejo-de-tramites-y-servicios-disponibles/2025-09-10/
LOCATION:Av. Las Heras 1833\, Ciudad Autónoma de Buenos Aires\, Argentina
GEO:-34.591248;-58.392025
X-APPLE-STRUCTURED-LOCATION;VALUE=URI;X-ADDRESS=Av. Las Heras 1833 Ciudad Autónoma de Buenos Aires Argentina;X-APPLE-RADIUS=500;X-TITLE=Av. Las Heras 1833:geo:-58.392025,-34.591248
CATEGORIES:Cursos presenciales,Cursos presenciales (Válidos Ley 404)
ORGANIZER;CN="Colegio%20de%20Escribanos%20de%20la%20Ciudad%20de%20Buenos%20Aires":MAILTO:cursos@colegio-escribanos.org.ar
END:VEVENT
END:VCALENDAR