BEGIN:VCALENDAR
VERSION:2.0
PRODID:-//Campus Virtual del Colegio de Escribanos de la Ciudad de Buenos Aires - ECPv4.6//NONSGML v1.0//EN
CALSCALE:GREGORIAN
METHOD:PUBLISH
X-WR-CALNAME:Campus Virtual del Colegio de Escribanos de la Ciudad de Buenos Aires
X-ORIGINAL-URL:https://campusvirtual.colegio-escribanos.org.ar
X-WR-CALDESC:Events for Campus Virtual del Colegio de Escribanos de la Ciudad de Buenos Aires
BEGIN:VEVENT
DTSTART;TZID=America/Argentina/Buenos_Aires:20250604T100000
DTEND;TZID=America/Argentina/Buenos_Aires:20250604T120000
DTSTAMP:20260420T154719
CREATED:20250521T131800Z
LAST-MODIFIED:20250603T182526Z
UID:8089-1749031200-1749038400@campusvirtual.colegio-escribanos.org.ar
SUMMARY:Charla sobre Régimen de Zonas de Frontera y Registro de Tierras Rurales
DESCRIPTION:Normas vigentes a la luz de las disposiciones del DNU 70/2023. Casos prácticos de cara a las inversiones extranjeras. Recaudos. Recomendaciones. \n📆 Miércoles 4 de junio\, 10 a 12 h\n📍 Av. Las Heras 1833\, 7° piso \n \n(El día previo a la charla se enviarán los datos de conexión para participar por Zoom). \n\nDisertantes: Dr. Franco N. Buonacosa\, Director de la Dirección de Coordinación y Trámites de Frontera y Esc. Bernardo Mihura de Estrada\, Director General del RPI de la Capital Federal y del Registro de Tierras Rurales.\nOrganiza: Instituto de Derecho Internacional Privado.\n\nVálido cumplimiento de los artículos 38 y 39 de la Ley 404 \n📝Puede enviar su consulta previa completando el siguiente formulario:  \nCargando… \n  \n
URL:https://campusvirtual.colegio-escribanos.org.ar/index.php/event/charla-sobre-regimen-de-zonas-de-frontera-y-registro-de-tierras-rurales/
LOCATION:Av. Las Heras 1833\, Ciudad Autónoma de Buenos Aires\, Argentina
GEO:-34.591248;-58.392025
X-APPLE-STRUCTURED-LOCATION;VALUE=URI;X-ADDRESS=Av. Las Heras 1833 Ciudad Autónoma de Buenos Aires Argentina;X-APPLE-RADIUS=500;X-TITLE=Av. Las Heras 1833:geo:-58.392025,-34.591248
CATEGORIES:Cursos presenciales,Cursos presenciales (Válidos Ley 404)
ORGANIZER;CN="Colegio%20de%20Escribanos%20de%20la%20Ciudad%20de%20Buenos%20Aires":MAILTO:cursos@colegio-escribanos.org.ar
END:VEVENT
END:VCALENDAR