BEGIN:VCALENDAR
VERSION:2.0
PRODID:-//Campus Virtual del Colegio de Escribanos de la Ciudad de Buenos Aires - ECPv4.6//NONSGML v1.0//EN
CALSCALE:GREGORIAN
METHOD:PUBLISH
X-WR-CALNAME:Campus Virtual del Colegio de Escribanos de la Ciudad de Buenos Aires
X-ORIGINAL-URL:https://campusvirtual.colegio-escribanos.org.ar
X-WR-CALDESC:Events for Campus Virtual del Colegio de Escribanos de la Ciudad de Buenos Aires
BEGIN:VEVENT
DTSTART;TZID=America/Argentina/Buenos_Aires:20190219T093000
DTEND;TZID=America/Argentina/Buenos_Aires:20190219T113000
DTSTAMP:20260420T152239
CREATED:20190109T172310Z
LAST-MODIFIED:20190116T131124Z
UID:4081-1550568600-1550575800@campusvirtual.colegio-escribanos.org.ar
SUMMARY:Curso: Boleto de compraventa
DESCRIPTION:Martes 19 de febrero\, 9.30 horas \nSalón Gervasio A. de Posadas\, Av. Callao 1542 \nBoleto de compraventa. Cuestiones relevantes después de la vigencia del Código Cy C. Naturaleza y  diferencia con el contrato preliminar .Compra en comisión\, gestión de negocios. Seña. Pacto comisorio \nDisertantes: A cargo de la Esc. María T. Acquarone y el Dr. Ricardo Rocca \nVálido cumplimiento de los arts. 38 y 39 de la Ley 404. \nInscripción para escribanos de la Ciudad de Buenos Aires \nRogamos confirmar asistencia o inasistencia con tres días de anticipación al siguiente correo electrónico: cursos@colegio-escribanos.org.ar \nSe tomará asistencia antes del ingreso a cada clase y se registrará también la salida. Los plazos de tolerancia serán de 15 minutos luego del horario de ingreso a la clase y de 15 minutos antes del horario de finalización. \n
URL:https://campusvirtual.colegio-escribanos.org.ar/index.php/event/curso-boleto-de-compraventa/
LOCATION:Avenida Callao 1542\, Ciudad de Buenos Aires\, Capital Federal\, 1024\, Argentina
GEO:-34.5914454;-58.391488
X-APPLE-STRUCTURED-LOCATION;VALUE=URI;X-ADDRESS=Avenida Callao 1542 Ciudad de Buenos Aires Capital Federal 1024 Argentina;X-APPLE-RADIUS=500;X-TITLE=Avenida Callao 1542:geo:-58.391488,-34.5914454
CATEGORIES:Cursos presenciales (Válidos Ley 404)
ORGANIZER;CN="Colegio%20de%20Escribanos%20de%20la%20Ciudad%20de%20Buenos%20Aires":MAILTO:cursos@colegio-escribanos.org.ar
END:VEVENT
END:VCALENDAR