BEGIN:VCALENDAR
VERSION:2.0
PRODID:-//Campus Virtual del Colegio de Escribanos de la Ciudad de Buenos Aires - ECPv4.6//NONSGML v1.0//EN
CALSCALE:GREGORIAN
METHOD:PUBLISH
X-WR-CALNAME:Campus Virtual del Colegio de Escribanos de la Ciudad de Buenos Aires
X-ORIGINAL-URL:https://campusvirtual.colegio-escribanos.org.ar
X-WR-CALDESC:Events for Campus Virtual del Colegio de Escribanos de la Ciudad de Buenos Aires
BEGIN:VEVENT
DTSTART;TZID=America/Argentina/Buenos_Aires:20220223T100000
DTEND;TZID=America/Argentina/Buenos_Aires:20220223T120000
DTSTAMP:20260424T090554
CREATED:20220208T152101Z
LAST-MODIFIED:20220318T130531Z
UID:5800-1645610400-1645617600@campusvirtual.colegio-escribanos.org.ar
SUMMARY:Taller: Herramientas prácticas para mejorar la aplicación del arancel
DESCRIPTION:  \nMiércoles 23 de febrero\, 10 h.\n7° piso de Av. Las Heras 1833 \nExpositoras:  \n\nEsc. María Celeste Gerarduzzi\, Presidenta de la Comisión Asesora de Arancel. \nEsc. Elizabeth V. Ezernitchi\, Miembro de la Comisión Asesora de Arancel.\n\nTemario: \n\nFuentes arancelarias\, principios generales y excepciones. Vigencia del Decreto 1208/87. Carácter *sugerido de los aranceles.\nBase de cálculo de honorarios. Facturar en dólares. Contado con Liqui.\nConsideraciones éticas y morales y criterio de razonabilidad.\nRubros de la factura. Armado de factura en vivo.\n\nHaga clic aquí para la inscripción al curso \n
URL:https://campusvirtual.colegio-escribanos.org.ar/index.php/event/curso-herramientas-practicas-para-mejorar-la-aplicacion-del-arancel/
LOCATION:Av. Las Heras 1833\, Ciudad Autónoma de Buenos Aires\, Argentina
GEO:-34.591248;-58.392025
X-APPLE-STRUCTURED-LOCATION;VALUE=URI;X-ADDRESS=Av. Las Heras 1833 Ciudad Autónoma de Buenos Aires Argentina;X-APPLE-RADIUS=500;X-TITLE=Av. Las Heras 1833:geo:-58.392025,-34.591248
CATEGORIES:Cursos presenciales,Cursos presenciales (Válidos Ley 404)
ORGANIZER;CN="Colegio%20de%20Escribanos%20de%20la%20Ciudad%20de%20Buenos%20Aires":MAILTO:cursos@colegio-escribanos.org.ar
END:VEVENT
END:VCALENDAR