BEGIN:VCALENDAR
VERSION:2.0
PRODID:-//Campus Virtual del Colegio de Escribanos de la Ciudad de Buenos Aires - ECPv4.6//NONSGML v1.0//EN
CALSCALE:GREGORIAN
METHOD:PUBLISH
X-WR-CALNAME:Campus Virtual del Colegio de Escribanos de la Ciudad de Buenos Aires
X-ORIGINAL-URL:https://campusvirtual.colegio-escribanos.org.ar
X-WR-CALDESC:Events for Campus Virtual del Colegio de Escribanos de la Ciudad de Buenos Aires
BEGIN:VEVENT
DTSTART;TZID=America/Argentina/Buenos_Aires:20190226T093000
DTEND;TZID=America/Argentina/Buenos_Aires:20190226T113000
DTSTAMP:20260420T124551
CREATED:20190108T142438Z
LAST-MODIFIED:20190116T133645Z
UID:4078-1551173400-1551180600@campusvirtual.colegio-escribanos.org.ar
SUMMARY:Curso: Impuesto a las Ganancias
DESCRIPTION:Martes 26 de febrero\, 9.30 horas \nSalón Gervasio A. de Posadas\, Av. Callao 1542 \nDisertante: Contadora Liliana Molas \nVálido cumplimiento de los arts. 38 y 39 de la Ley 404. \nInscripción para escribanos de la Ciudad de Buenos Aires \nRogamos confirmar su asistencia o inasistencia con tres días de anticipación al siguiente correo electrónico cursos@colegio-escribanos.org.ar \nSe tomará asistencia antes del ingreso a cada clase y se registrará también la salida. Los plazos de tolerancia serán de 15 minutos luego del horario de ingreso a la clase y de 15 minutos antes del horario de finalización. \n
URL:https://campusvirtual.colegio-escribanos.org.ar/index.php/event/curso-impuesto-a-las-ganancias/
LOCATION:Avenida Callao 1542\, Ciudad de Buenos Aires\, Capital Federal\, 1024\, Argentina
GEO:-34.5914454;-58.391488
X-APPLE-STRUCTURED-LOCATION;VALUE=URI;X-ADDRESS=Avenida Callao 1542 Ciudad de Buenos Aires Capital Federal 1024 Argentina;X-APPLE-RADIUS=500;X-TITLE=Avenida Callao 1542:geo:-58.391488,-34.5914454
CATEGORIES:Cursos presenciales (Válidos Ley 404)
ORGANIZER;CN="Colegio%20de%20Escribanos%20de%20la%20Ciudad%20de%20Buenos%20Aires":MAILTO:cursos@colegio-escribanos.org.ar
END:VEVENT
END:VCALENDAR