BEGIN:VCALENDAR
VERSION:2.0
PRODID:-//Campus Virtual del Colegio de Escribanos de la Ciudad de Buenos Aires - ECPv4.6//NONSGML v1.0//EN
CALSCALE:GREGORIAN
METHOD:PUBLISH
X-WR-CALNAME:Campus Virtual del Colegio de Escribanos de la Ciudad de Buenos Aires
X-ORIGINAL-URL:https://campusvirtual.colegio-escribanos.org.ar
X-WR-CALDESC:Events for Campus Virtual del Colegio de Escribanos de la Ciudad de Buenos Aires
BEGIN:VEVENT
DTSTART;TZID=America/Argentina/Buenos_Aires:20240612T100000
DTEND;TZID=America/Argentina/Buenos_Aires:20240612T120000
DTSTAMP:20260422T171342
CREATED:20240529T181739Z
LAST-MODIFIED:20240611T141542Z
UID:7455-1718186400-1718193600@campusvirtual.colegio-escribanos.org.ar
SUMMARY:Derecho Internacional Privado
DESCRIPTION:Ciclo de charlas en el marco de las XXIX Jornadas Nacionales de Derecho Civil\nMiércoles 12 de junio\, 10 h\,  Av. Las Heras 1833\, 7º piso.\n\nLímites a la autonomía de la voluntad en la instrumentación de contratos internacionales | Disertante: Dr. Juan Francisco Acosta\nAutonomía de la Voluntad en DIPR e inteligencia artificial y contratos electrónicos | Disertante: Dra. Flavia Medina\nAutonomía de la voluntad y consentimiento por medios electrónicos | Disertante: Dra. Mónica Rodríguez\nModeradora: Esc. María Marta Herrera\n\nVálido para el cumplimiento de los artículos 38 y 39\, Ley 404. \nHaga clic aquí para inscribirse \n
URL:https://campusvirtual.colegio-escribanos.org.ar/index.php/event/derecho-internacional-privado/
LOCATION:Av. Las Heras 1833\, Ciudad Autónoma de Buenos Aires\, Argentina
GEO:-34.591248;-58.392025
X-APPLE-STRUCTURED-LOCATION;VALUE=URI;X-ADDRESS=Av. Las Heras 1833 Ciudad Autónoma de Buenos Aires Argentina;X-APPLE-RADIUS=500;X-TITLE=Av. Las Heras 1833:geo:-58.392025,-34.591248
CATEGORIES:Cursos presenciales,Cursos presenciales (Válidos Ley 404)
ORGANIZER;CN="Colegio%20de%20Escribanos%20de%20la%20Ciudad%20de%20Buenos%20Aires":MAILTO:cursos@colegio-escribanos.org.ar
END:VEVENT
END:VCALENDAR