BEGIN:VCALENDAR
VERSION:2.0
PRODID:-//Campus Virtual del Colegio de Escribanos de la Ciudad de Buenos Aires - ECPv4.6//NONSGML v1.0//EN
CALSCALE:GREGORIAN
METHOD:PUBLISH
X-WR-CALNAME:Campus Virtual del Colegio de Escribanos de la Ciudad de Buenos Aires
X-ORIGINAL-URL:https://campusvirtual.colegio-escribanos.org.ar
X-WR-CALDESC:Events for Campus Virtual del Colegio de Escribanos de la Ciudad de Buenos Aires
BEGIN:VEVENT
DTSTART;TZID=America/Argentina/Buenos_Aires:20190319T100000
DTEND;TZID=America/Argentina/Buenos_Aires:20190319T120000
DTSTAMP:20260422T084142
CREATED:20190228T141232Z
LAST-MODIFIED:20190228T141735Z
UID:4224-1552989600-1552996800@campusvirtual.colegio-escribanos.org.ar
SUMMARY:Gestión de conflictos en la función notarial
DESCRIPTION:Martes 19 de marzo de 2019\,  de 10 a 12 horas\n7º piso de Av. Las Heras 1833. \nOrganizado por la Primer Centro Institucional de Mediación del Colegio de Escribanos \nInscripción para escribanos de la Ciudad de Buenos Aires \nDisertantes: \n\nDr. Gustavo Fariña\nDra. Susana Ghersi\n\nOBJETIVO: \n\nOfrecer a los Escribanos información actualizada sobre teoría y prácticas útiles a fin de intentar  una eficaz intervención en los conflictos en los que deban actuar\, evitando la escalada de las disputas y minimizando posibilidades de recurrencia de dichas disputas.\n\n\nProveer conocimientos a fin de facilitar la identificación de las causas generadoras de los conflictos y el manejo de las emociones.\n\n\nFacilitar el entendimiento y la adecuada intervención frente a los diversos intereses y necesidades en juego de las partes y de sus letrados.\n\n\nOfrecer información teórica y practica que fundamenta y sostiene la intervención de un tercero neutral (mediador) a efectos de permitir a los participantes conocer sobre un nuevo espacio de competencia profesional.\n\nPROGRAMA: \n\nResolución alternativa de disputas y administración de justicia\n\n\nEl Conflicto\n\n\nLa Negociación y sus características en Latinoamérica.\n\n\nTécnicas de mediación y conciliación.\n\nMás información: 4809-7007/ 4809-7021; e-mail.: mediacion-arbitral@colegio-escribanos.org.ar \n
URL:https://campusvirtual.colegio-escribanos.org.ar/index.php/event/gestion-de-conflictos-en-la-funcion-notarial/
LOCATION:Av. Las Heras 1833\, Ciudad Autónoma de Buenos Aires\, Argentina
GEO:-34.591248;-58.392025
X-APPLE-STRUCTURED-LOCATION;VALUE=URI;X-ADDRESS=Av. Las Heras 1833 Ciudad Autónoma de Buenos Aires Argentina;X-APPLE-RADIUS=500;X-TITLE=Av. Las Heras 1833:geo:-58.392025,-34.591248
CATEGORIES:Cursos presenciales (Válidos Ley 404)
ORGANIZER;CN="Primer%20Centro%20Institucional%20de%20Mediaci%C3%B3n%20del%20Colegio%20de%20Escribanos":MAILTO:mediacion-arbitral@colegio-escribanos.org.ar
END:VEVENT
END:VCALENDAR