BEGIN:VCALENDAR
VERSION:2.0
PRODID:-//Campus Virtual del Colegio de Escribanos de la Ciudad de Buenos Aires - ECPv4.6//NONSGML v1.0//EN
CALSCALE:GREGORIAN
METHOD:PUBLISH
X-WR-CALNAME:Campus Virtual del Colegio de Escribanos de la Ciudad de Buenos Aires
X-ORIGINAL-URL:https://campusvirtual.colegio-escribanos.org.ar
X-WR-CALDESC:Events for Campus Virtual del Colegio de Escribanos de la Ciudad de Buenos Aires
BEGIN:VEVENT
DTSTART;TZID=America/Argentina/Buenos_Aires:20241029T093000
DTEND;TZID=America/Argentina/Buenos_Aires:20241029T120000
DTSTAMP:20260422T095858
CREATED:20241010T145808Z
LAST-MODIFIED:20241010T173018Z
UID:7730-1730194200-1730203200@campusvirtual.colegio-escribanos.org.ar
SUMMARY:Jornada de Derecho Internacional Privado Notarial
DESCRIPTION:Con la presencia de la Dra. Alicia Mariana Perugini\n\nDisertan : \n\n\nDra. María Elsa Uzal: exequatur\, reconocimiento involucrado de sentencias extranjeras y reconocimiento de situaciones . Breve referencia al art. 2667 CCyCN.\nDr. Juan Pablo Quaranta Costerg: aplicación del derecho extranjero.\nDra. Flavia Medina: Matrimonio y divorcio: efectos transfronterizos.\n\n\n\nModera: Esc. María Marta Herrera. \nOrganiza: Instituto de Derecho Internacional Privado. \nMartes 29 de octubre\, 9.30  a 12 horas\,  7° piso de Av. Las Heras 1833\nVálido cumplimiento de los arts. 38 y 39 de la Ley 404 \nInscripción escribanos CABA \nOtras inscripciones\n  \n
URL:https://campusvirtual.colegio-escribanos.org.ar/index.php/event/jornada-de-derecho-internacional-privado-notarial-en-el-colegio-de-escribanos/
LOCATION:Av. Las Heras 1833\, Ciudad Autónoma de Buenos Aires\, Argentina
GEO:-34.591248;-58.392025
X-APPLE-STRUCTURED-LOCATION;VALUE=URI;X-ADDRESS=Av. Las Heras 1833 Ciudad Autónoma de Buenos Aires Argentina;X-APPLE-RADIUS=500;X-TITLE=Av. Las Heras 1833:geo:-58.392025,-34.591248
CATEGORIES:Cursos presenciales,Cursos presenciales (Válidos Ley 404)
ORGANIZER;CN="Colegio%20de%20Escribanos%20de%20la%20Ciudad%20de%20Buenos%20Aires":MAILTO:cursos@colegio-escribanos.org.ar
END:VEVENT
END:VCALENDAR