BEGIN:VCALENDAR
VERSION:2.0
PRODID:-//Campus Virtual del Colegio de Escribanos de la Ciudad de Buenos Aires - ECPv4.6//NONSGML v1.0//EN
CALSCALE:GREGORIAN
METHOD:PUBLISH
X-WR-CALNAME:Campus Virtual del Colegio de Escribanos de la Ciudad de Buenos Aires
X-ORIGINAL-URL:https://campusvirtual.colegio-escribanos.org.ar
X-WR-CALDESC:Events for Campus Virtual del Colegio de Escribanos de la Ciudad de Buenos Aires
BEGIN:VEVENT
DTSTART;TZID=America/Argentina/Buenos_Aires:20190313T093000
DTEND;TZID=America/Argentina/Buenos_Aires:20190313T133000
DTSTAMP:20260420T095649
CREATED:20190226T174947Z
LAST-MODIFIED:20190405T163303Z
UID:4209-1552469400-1552483800@campusvirtual.colegio-escribanos.org.ar
SUMMARY:Jornada Nacional: Regularización Urbana y Dominial
DESCRIPTION:Inscripción para escribanos de la Ciudad de Buenos Aires\nORGANIZA: DR. FRANCO BOGGIATTO Director de Regularización Dominial. \n\nTITULACIÓN: UN CAMBIO FUNDAMENTAL EN LA VIDA DE LOS CIUDADANOS.\nMODOS EFICIENTES DE LOGRARLA\nCARLOS MARCELO D’ALESSIO\nEscribano General del Gobierno de la Nación\n\n\nREGULARIZACIÓN DE BARRIOS POPULARES\nFERNANDO SAENZ\nDirector de Asuntos Comunitarios. Agencia de Administración de Bienes del Estado\n\n\nCÓMO EL CATASTRO PUEDE CONTRIBUIR A LA REGULARIZACIÓN DOMINIAL.\nEXPERIENCIA PROVINCIA DE SANTA FE\nING. GFO. NORBERTO FRICKX\nAdministrador General del Servicio de Catastro e Información Territorial de la Provincia de Santa Fé\n\n\nBARRIO 31 INTEGRACIÓN SOCIAL Y URBANA\nDIEGO FERNÁNDEZ\nSecretario de Integración Social y Urbana del Gobierno de la Ciudad de Buenos Aires\n\n\nDESARROLLO URBANO Y SEGURIDAD JURÍDICA.\nANÁLISIS DE LOS PROCESOS DE REGULARIZACIÓN DOMINIAL.\nANDRÉS M. MAGE\nAbogado. Docente e investigador universitario\n\nDIEGO M. MAGE\nEscribano. Especialista en documentación y contratación notarial. \n\nIVÁN KERR\nSecretario de Vivienda de la Nación \n \n  \n
URL:https://campusvirtual.colegio-escribanos.org.ar/index.php/event/jornada-nacional-regularizacion-urbana-y-dominial/
LOCATION:Avenida Callao 1542\, Ciudad de Buenos Aires\, Capital Federal\, 1024\, Argentina
GEO:-34.5914454;-58.391488
X-APPLE-STRUCTURED-LOCATION;VALUE=URI;X-ADDRESS=Avenida Callao 1542 Ciudad de Buenos Aires Capital Federal 1024 Argentina;X-APPLE-RADIUS=500;X-TITLE=Avenida Callao 1542:geo:-58.391488,-34.5914454
CATEGORIES:Cursos presenciales (Válidos Ley 404)
ATTACH;FMTTYPE=image/jpeg:https://campusvirtual.colegio-escribanos.org.ar/wp-content/uploads/2019/02/slider-2019-jornada-regularizacion.jpg
ORGANIZER;CN="Colegio%20de%20Escribanos%20de%20la%20Ciudad%20de%20Buenos%20Aires":MAILTO:cursos@colegio-escribanos.org.ar
END:VEVENT
END:VCALENDAR