BEGIN:VCALENDAR
VERSION:2.0
PRODID:-//Campus Virtual del Colegio de Escribanos de la Ciudad de Buenos Aires - ECPv4.6//NONSGML v1.0//EN
CALSCALE:GREGORIAN
METHOD:PUBLISH
X-WR-CALNAME:Campus Virtual del Colegio de Escribanos de la Ciudad de Buenos Aires
X-ORIGINAL-URL:https://campusvirtual.colegio-escribanos.org.ar
X-WR-CALDESC:Events for Campus Virtual del Colegio de Escribanos de la Ciudad de Buenos Aires
BEGIN:VEVENT
DTSTART;TZID=America/Argentina/Buenos_Aires:20220919T110000
DTEND;TZID=America/Argentina/Buenos_Aires:20220919T130000
DTSTAMP:20260420T152203
CREATED:20220912T142554Z
LAST-MODIFIED:20220915T141810Z
UID:6197-1663585200-1663592400@campusvirtual.colegio-escribanos.org.ar
SUMMARY:La Ley - Thomson Reuters
DESCRIPTION:Acceso a las bases bibliográficas de legislación\, jurisprudencia y doctrina. Biblioteca Digital Proview \nLunes 19 de septiembre\, 11 h – 8° piso\, Av. Las Heras \nVálido arts. 38 y 39 de la Ley 404 \nLa base de contenidos jurídicos digitales La Ley incluye distintos servicios y un amplio repertorio de legislación\, jurisprudencia\, doctrina\, bibliografía actualizada y comentada\, más una selección de libros de interés notarial adquiridos por el Colegio.  \nAdemás\, propone un sistema de búsqueda inteligente; permite copiar y pegar textos; y registrar y sincronizar las búsquedas entre los distintos dispositivos que los usuarios utilicen. Los colegas que se encuentren en los edificios de Callao y Las Heras pueden acceder gratuitamente a la biblioteca digital de este importante grupo editorial. \nA fin de poder capacitar a los escribanos que estén interesados en conocer las múltiples funcionalidades de la plataforma se ofrece este curso con el siguiente programa: \nLA LEY NEXT: \n\nContenidos incluidos: Código Civil y Comercial Comentado\, Códigos Nacionales y Provinciales\, Leyes Nacionales Comentadas y vinculadas con Doctrina y Jurisprudencia\, Legislación Provincial\, Jurisprudencia Nacional\, Provincial\, Federal e Internacional\, Doctrinas de todas las temáticas y más. \nPágina Principal: Sus componentes\, accesos directos y barras de herramientas. \nBuscadores: Conocer las distintas formas de buscar información\n\n\nBúsqueda Temática\nBúsqueda por Palabra Libre\nBúsqueda por Lenguaje Natural\nBúsqueda de Legislación\nBúsqueda de Doctrina\nBúsqueda de Jurisprudencia\nBúsqueda Rápida de Legislación\n\n\nListas de resultados y filtros: Aplicación de filtros predeterminados (por fuente del Derecho). \nAnálisis editorial de cada tipo de contenido y su relación con otros.\nDelivery de documentos\n\nRecordamos que el ingreso a estas bases se puede realizar de dos maneras: \n\nDesde una PC conectada a la red informática del Colegio o desde un dispositivo móvil con wifi en el Colegio. \n\nEl Colegio ofrece este nuevo servicio que permitirá la actualización y consulta constante de los colegas en el ejercicio diario de la función. \nInscripción para escribanos de CABA\n\n
URL:https://campusvirtual.colegio-escribanos.org.ar/index.php/event/la-ley-de-thomson-reuters/
LOCATION:Av. Las Heras 1833\, Ciudad Autónoma de Buenos Aires\, Argentina
GEO:-34.591248;-58.392025
X-APPLE-STRUCTURED-LOCATION;VALUE=URI;X-ADDRESS=Av. Las Heras 1833 Ciudad Autónoma de Buenos Aires Argentina;X-APPLE-RADIUS=500;X-TITLE=Av. Las Heras 1833:geo:-58.392025,-34.591248
CATEGORIES:Cursos presenciales,Cursos presenciales (Válidos Ley 404)
ORGANIZER;CN="Colegio%20de%20Escribanos%20de%20la%20Ciudad%20de%20Buenos%20Aires":MAILTO:cursos@colegio-escribanos.org.ar
END:VEVENT
END:VCALENDAR