BEGIN:VCALENDAR
VERSION:2.0
PRODID:-//Campus Virtual del Colegio de Escribanos de la Ciudad de Buenos Aires - ECPv4.6//NONSGML v1.0//EN
CALSCALE:GREGORIAN
METHOD:PUBLISH
X-WR-CALNAME:Campus Virtual del Colegio de Escribanos de la Ciudad de Buenos Aires
X-ORIGINAL-URL:https://campusvirtual.colegio-escribanos.org.ar
X-WR-CALDESC:Events for Campus Virtual del Colegio de Escribanos de la Ciudad de Buenos Aires
BEGIN:VEVENT
DTSTART;TZID=America/Argentina/Buenos_Aires:20251204T100000
DTEND;TZID=America/Argentina/Buenos_Aires:20251204T120000
DTSTAMP:20260421T020357
CREATED:20251119T142947Z
LAST-MODIFIED:20251119T143223Z
UID:8568-1764842400-1764849600@campusvirtual.colegio-escribanos.org.ar
SUMMARY:Poderes y normas generales del Derecho Internacional Privado
DESCRIPTION:📆 Jueves 4 de diciembre\, 10 h \n📍Av. Callao 1540\,  Salón Soldi.\n🔉 A cargo de: Dr. Juan Pablo Quaranta Costerg y Esc. María Marta Herrera  \n  👉Haga clic aquí para inscribirse  \nVálido cumplimiento de los artículos 38 y 39 de la Ley 404 \n
URL:https://campusvirtual.colegio-escribanos.org.ar/index.php/event/poderes-y-normas-generales-del-derecho-internacional-privado/
LOCATION:Av. Callao 1542\, Ciudad de Buenos Aires\, Argentina
CATEGORIES:Cursos presenciales,Cursos presenciales (Válidos Ley 404)
ORGANIZER;CN="Colegio%20de%20Escribanos%20de%20la%20Ciudad%20de%20Buenos%20Aires":MAILTO:cursos@colegio-escribanos.org.ar
END:VEVENT
END:VCALENDAR