BEGIN:VCALENDAR
VERSION:2.0
PRODID:-//Campus Virtual del Colegio de Escribanos de la Ciudad de Buenos Aires - ECPv4.6//NONSGML v1.0//EN
CALSCALE:GREGORIAN
METHOD:PUBLISH
X-WR-CALNAME:Campus Virtual del Colegio de Escribanos de la Ciudad de Buenos Aires
X-ORIGINAL-URL:https://campusvirtual.colegio-escribanos.org.ar
X-WR-CALDESC:Events for Campus Virtual del Colegio de Escribanos de la Ciudad de Buenos Aires
BEGIN:VEVENT
DTSTART;TZID=America/Argentina/Buenos_Aires:20190403T093000
DTEND;TZID=America/Argentina/Buenos_Aires:20190403T113000
DTSTAMP:20260422T083935
CREATED:20190318T134207Z
LAST-MODIFIED:20190326T152909Z
UID:4252-1554283800-1554291000@campusvirtual.colegio-escribanos.org.ar
SUMMARY:Programación sucesoria
DESCRIPTION:Salón Gervasio A. de Posadas\, Av. Callao 1542 \nMiércoles 3 y 10 de abril\, de 9.30 a 11.30 horas \nEsta actividad otorga puntaje para el cumplimiento de los artículos 38 y 39 de la Ley 404 \nA cargo del Esc. Néstor Daniel LAMBER \nDirigido a escribanos matriculados \n  \nPrograma: \nMiércoles 3 de abril de 2019 \nPACTOS DE HERENCIA FUTURA PERMITIDOS EN LA LEY ARGENTINA. \nPactos del art. 1010 inc. 2 CCCN. Cláusulas societarias por fallecimiento del socio. Partición por Ascendientes: donación y Testamento. Dispensa de colación en acto entre vivos. El pacto sobre herencia futura del art. 2461 CCCN. Mejora estricta del art. 2444 CCCN . Beneficios de fideicomisos asistenciales. Donaciones de bienes no registrables. \nHaga clic aquí para la inscripción del miércoles 3 de abril \n  \nMiércoles 10 de abril de 2019 \nPROGAMACIÓN SUCESORIA DURANTE LA INDIVISIÓN HEREDITARIA \nLa partición de la indivisión hereditaria y postcomunitaria. Particiones parciales y por saldo. Transmisión de bienes colacionados. Compensaciones y mejoras. Cesiones de derechos hereditarios y gananciales. Cesiones de bienes de la herencia sujetos a la partición. Cesión-partición de herencia. Pactos de indivisión (o anti partición). Pactos convivenciales y previsión de compensación  económica. Onerosidad. Oponibilidad a terceros. \nHaga clic aquí para la inscripción del miércoles 10 de abril \n  \n
URL:https://campusvirtual.colegio-escribanos.org.ar/index.php/event/programacion-sucesoria/2019-04-03/
LOCATION:Avenida Callao 1542\, Ciudad de Buenos Aires\, Capital Federal\, 1024\, Argentina
GEO:-34.5914454;-58.391488
X-APPLE-STRUCTURED-LOCATION;VALUE=URI;X-ADDRESS=Avenida Callao 1542 Ciudad de Buenos Aires Capital Federal 1024 Argentina;X-APPLE-RADIUS=500;X-TITLE=Avenida Callao 1542:geo:-58.391488,-34.5914454
CATEGORIES:Cursos presenciales,Cursos presenciales (Válidos Ley 404)
ORGANIZER;CN="Colegio%20de%20Escribanos%20de%20la%20Ciudad%20de%20Buenos%20Aires":MAILTO:cursos@colegio-escribanos.org.ar
END:VEVENT
END:VCALENDAR