BEGIN:VCALENDAR
VERSION:2.0
PRODID:-//Campus Virtual del Colegio de Escribanos de la Ciudad de Buenos Aires - ECPv4.6//NONSGML v1.0//EN
CALSCALE:GREGORIAN
METHOD:PUBLISH
X-WR-CALNAME:Campus Virtual del Colegio de Escribanos de la Ciudad de Buenos Aires
X-ORIGINAL-URL:https://campusvirtual.colegio-escribanos.org.ar
X-WR-CALDESC:Events for Campus Virtual del Colegio de Escribanos de la Ciudad de Buenos Aires
BEGIN:VEVENT
DTSTART;TZID=America/Argentina/Buenos_Aires:20221129T103000
DTEND;TZID=America/Argentina/Buenos_Aires:20221129T123000
DTSTAMP:20260423T183334
CREATED:20221107T144404Z
LAST-MODIFIED:20221108T133111Z
UID:6431-1669717800-1669725000@campusvirtual.colegio-escribanos.org.ar
SUMMARY:Reunión abierta del Instituto de Derecho Comercial
DESCRIPTION:Comentarios sobre fallos actuales en materia de sociedades extranjeras\nA cargo de: Escs. María Cesaretti y Norberto Benseñor \nMartes 29 de noviembre\, 10.30 h \n7° piso de Av. Las Heras 1833 \nVálido cumplimiento artículos 38 y 39 de la Ley 404 \n  \nInscripción para escribanos de CABA\n
URL:https://campusvirtual.colegio-escribanos.org.ar/index.php/event/reunion-abierta-del-instituto-de-derecho-comercial/
LOCATION:Av. Las Heras 1833\, Ciudad Autónoma de Buenos Aires\, Argentina
GEO:-34.591248;-58.392025
X-APPLE-STRUCTURED-LOCATION;VALUE=URI;X-ADDRESS=Av. Las Heras 1833 Ciudad Autónoma de Buenos Aires Argentina;X-APPLE-RADIUS=500;X-TITLE=Av. Las Heras 1833:geo:-58.392025,-34.591248
CATEGORIES:Cursos presenciales,Cursos presenciales (Válidos Ley 404)
ORGANIZER;CN="Colegio%20de%20Escribanos%20de%20la%20Ciudad%20de%20Buenos%20Aires":MAILTO:cursos@colegio-escribanos.org.ar
END:VEVENT
END:VCALENDAR