BEGIN:VCALENDAR
VERSION:2.0
PRODID:-//Campus Virtual del Colegio de Escribanos de la Ciudad de Buenos Aires - ECPv4.6//NONSGML v1.0//EN
CALSCALE:GREGORIAN
METHOD:PUBLISH
X-WR-CALNAME:Campus Virtual del Colegio de Escribanos de la Ciudad de Buenos Aires
X-ORIGINAL-URL:https://campusvirtual.colegio-escribanos.org.ar
X-WR-CALDESC:Events for Campus Virtual del Colegio de Escribanos de la Ciudad de Buenos Aires
BEGIN:VEVENT
DTSTART;TZID=America/Argentina/Buenos_Aires:20240610T100000
DTEND;TZID=America/Argentina/Buenos_Aires:20240610T120000
DTSTAMP:20260422T195255
CREATED:20240529T180906Z
LAST-MODIFIED:20240604T144850Z
UID:7450-1718013600-1718020800@campusvirtual.colegio-escribanos.org.ar
SUMMARY:SAS como herramienta para la Empresa Familiar
DESCRIPTION:\nLunes 10 de junio\, 10 h\, Av. Las Heras 1833\, 7º piso.\nA cargo del Dr. Carlos Vanney \nCoordinadores: Escs. Victoria Masri y Norberto Benseñor \nOrganiza: Instituto de Derecho Comercial y Comisión de Empresa Familiar. \nVálido para el cumplimiento de los artículos 38 y 39\, Ley 404. \n\nHaga clic aquí para inscribirse \nCV del disertante: \n\nAbogado (UCA)\, Magister en Derecho Empresario (Univ. Austral).\nRealizó cursos de posgrado en Derecho Tributario (Univ. Austral) y en Derecho concursal profundizado (UBA).\nSocio del Estudio Vanney-Abogados\, dedicado al derecho empresario\, societario y concursal.\nProfesor de la cátedra de Sociedades en la Facultad de Ciencias Empresariales de la Universidad Austral y de Derecho Concursal en la Facultad de Derecho de la Universidad Austral.\nExpositor y ponente en congresos y jornadas de su especialidad.\nBrinda asesoramiento a emprendedores\, empresas familiares y familias empresarias\, acompañándolos desde su inicio y durante toda su vida empresarial.\n\n  \n
URL:https://campusvirtual.colegio-escribanos.org.ar/index.php/event/sas-como-herramienta-para-la-empresa-familiar/
LOCATION:Av. Las Heras 1833\, Ciudad Autónoma de Buenos Aires\, Argentina
GEO:-34.591248;-58.392025
X-APPLE-STRUCTURED-LOCATION;VALUE=URI;X-ADDRESS=Av. Las Heras 1833 Ciudad Autónoma de Buenos Aires Argentina;X-APPLE-RADIUS=500;X-TITLE=Av. Las Heras 1833:geo:-58.392025,-34.591248
CATEGORIES:Cursos presenciales (Válidos Ley 404)
ORGANIZER;CN="Colegio%20de%20Escribanos%20de%20la%20Ciudad%20de%20Buenos%20Aires":MAILTO:cursos@colegio-escribanos.org.ar
END:VEVENT
END:VCALENDAR