BEGIN:VCALENDAR
VERSION:2.0
PRODID:-//Campus Virtual del Colegio de Escribanos de la Ciudad de Buenos Aires - ECPv4.6//NONSGML v1.0//EN
CALSCALE:GREGORIAN
METHOD:PUBLISH
X-WR-CALNAME:Campus Virtual del Colegio de Escribanos de la Ciudad de Buenos Aires
X-ORIGINAL-URL:https://campusvirtual.colegio-escribanos.org.ar
X-WR-CALDESC:Events for Campus Virtual del Colegio de Escribanos de la Ciudad de Buenos Aires
BEGIN:VEVENT
DTSTART;TZID=America/Argentina/Buenos_Aires:20221115T180000
DTEND;TZID=America/Argentina/Buenos_Aires:20221117T210000
DTSTAMP:20260423T213309
CREATED:20221104T155747Z
LAST-MODIFIED:20221104T160717Z
UID:6422-1668535200-1668718800@campusvirtual.colegio-escribanos.org.ar
SUMMARY:Seminario Virtual Laureano A. Moreira
DESCRIPTION:Academia Nacional del Notariado\n \n
URL:https://campusvirtual.colegio-escribanos.org.ar/index.php/event/seminario-virtual-laureano-a-moreira/
ORGANIZER;CN="Colegio%20de%20Escribanos%20de%20la%20Ciudad%20de%20Buenos%20Aires":MAILTO:cursos@colegio-escribanos.org.ar
END:VEVENT
END:VCALENDAR