BEGIN:VCALENDAR
VERSION:2.0
PRODID:-//Campus Virtual del Colegio de Escribanos de la Ciudad de Buenos Aires - ECPv4.6//NONSGML v1.0//EN
CALSCALE:GREGORIAN
METHOD:PUBLISH
X-WR-CALNAME:Campus Virtual del Colegio de Escribanos de la Ciudad de Buenos Aires
X-ORIGINAL-URL:https://campusvirtual.colegio-escribanos.org.ar
X-WR-CALDESC:Events for Campus Virtual del Colegio de Escribanos de la Ciudad de Buenos Aires
BEGIN:VEVENT
DTSTART;TZID=America/Argentina/Buenos_Aires:20220321T093000
DTEND;TZID=America/Argentina/Buenos_Aires:20220321T113000
DTSTAMP:20260424T103911
CREATED:20220310T143502Z
LAST-MODIFIED:20220310T160750Z
UID:5857-1647855000-1647862200@campusvirtual.colegio-escribanos.org.ar
SUMMARY:Taller: "Actualización tributaria notarial. Boletos. Cesiones Dólar. Impuesto de sellos. Precio mixto. Ganancias cedulares"
DESCRIPTION:A cargo del Instituto de Derecho Tributario.  \nTemario \nReforma del Código Fiscal CABA: artículos 332 y 333. Metodología de los pagos a cuenta. Boletos. Actas de posesión. Cesiones. Transmisión de dominio. Cotización de la moneda extranjera. Casuística. Precio integrado en varias monedas. Precio mixto. Realidad económica. Precio en cuotas. Ganancias cedulares. Valoración de títulos. Vivienda exenta. Problemática de los beneficiarios del exterior. \nDirigido a escribanos matriculados\, válido para la capacitación obligatoria Ley 404. \nVacantes limitadas \nExpositores: \n\nEsc. Julián González Mantelli\, Presidente del Instituto de Derecho Tributario (IDT)\nEsc. Rita Menéndez\, Vicepresidenta del IDT\nEsc. Sandra Lendner \, Secretaria del IDT \nEsc. Noel Luaces\, Integrante del IDT\n\n  \nHaga clic aquí para la inscripción al curso \n
URL:https://campusvirtual.colegio-escribanos.org.ar/index.php/event/taller-actualizacion-tributaria-notarial-boletos-cesiones-dolar-impuesto-de-sellos-precio-mixto-ganancias-cedulares/
LOCATION:Avenida Callao 1542\, Ciudad de Buenos Aires\, Capital Federal\, 1024\, Argentina
GEO:-34.5914454;-58.391488
X-APPLE-STRUCTURED-LOCATION;VALUE=URI;X-ADDRESS=Avenida Callao 1542 Ciudad de Buenos Aires Capital Federal 1024 Argentina;X-APPLE-RADIUS=500;X-TITLE=Avenida Callao 1542:geo:-58.391488,-34.5914454
CATEGORIES:Cursos presenciales (Válidos Ley 404)
ORGANIZER;CN="Colegio%20de%20Escribanos%20de%20la%20Ciudad%20de%20Buenos%20Aires":MAILTO:cursos@colegio-escribanos.org.ar
END:VEVENT
END:VCALENDAR