BEGIN:VCALENDAR
VERSION:2.0
PRODID:-//Campus Virtual del Colegio de Escribanos de la Ciudad de Buenos Aires - ECPv4.6//NONSGML v1.0//EN
CALSCALE:GREGORIAN
METHOD:PUBLISH
X-WR-CALNAME:Campus Virtual del Colegio de Escribanos de la Ciudad de Buenos Aires
X-ORIGINAL-URL:https://campusvirtual.colegio-escribanos.org.ar
X-WR-CALDESC:Events for Campus Virtual del Colegio de Escribanos de la Ciudad de Buenos Aires
BEGIN:VEVENT
DTSTART;TZID=America/Argentina/Buenos_Aires:20250825T100000
DTEND;TZID=America/Argentina/Buenos_Aires:20250825T120000
DTSTAMP:20260420T235228
CREATED:20250819T131649Z
LAST-MODIFIED:20250819T152252Z
UID:8395-1756116000-1756123200@campusvirtual.colegio-escribanos.org.ar
SUMMARY:Taller de AYSA - Pedidos de certificados. Distintos supuestos.
DESCRIPTION:📆 Lunes 25 de agosto\, 10 a 12 h\n📍Av. Callao 1542\, Salón Gervasio A. Posadas\n🔉Disertantes: Escs. María Magdalena Tato y Miguel Guinle\nHabrá asistencia online permanente de personal de AySA. \n🔔 Los colegas podrán participar acompañados por un colaborador de la escribanía.  \n👉Haga clic aquí para inscribirse  \nVálido cumplimiento de los artículos 38 y 39 de la Ley 404 \n
URL:https://campusvirtual.colegio-escribanos.org.ar/index.php/event/taller-de-aysa-pedidos-de-certificados-distintos-supuestos/
LOCATION:Avenida Callao 1542\, Ciudad de Buenos Aires\, Capital Federal\, 1024\, Argentina
GEO:-34.5914454;-58.391488
X-APPLE-STRUCTURED-LOCATION;VALUE=URI;X-ADDRESS=Avenida Callao 1542 Ciudad de Buenos Aires Capital Federal 1024 Argentina;X-APPLE-RADIUS=500;X-TITLE=Avenida Callao 1542:geo:-58.391488,-34.5914454
CATEGORIES:Cursos presenciales,Cursos presenciales (Válidos Ley 404)
ORGANIZER;CN="Colegio%20de%20Escribanos%20de%20la%20Ciudad%20de%20Buenos%20Aires":MAILTO:cursos@colegio-escribanos.org.ar
END:VEVENT
END:VCALENDAR