BEGIN:VCALENDAR
VERSION:2.0
PRODID:-//Campus Virtual del Colegio de Escribanos de la Ciudad de Buenos Aires - ECPv4.6//NONSGML v1.0//EN
CALSCALE:GREGORIAN
METHOD:PUBLISH
X-WR-CALNAME:Campus Virtual del Colegio de Escribanos de la Ciudad de Buenos Aires
X-ORIGINAL-URL:https://campusvirtual.colegio-escribanos.org.ar
X-WR-CALDESC:Events for Campus Virtual del Colegio de Escribanos de la Ciudad de Buenos Aires
BEGIN:VEVENT
DTSTART;TZID=America/Argentina/Buenos_Aires:20241023T100000
DTEND;TZID=America/Argentina/Buenos_Aires:20241023T120000
DTSTAMP:20260422T112049
CREATED:20241010T151539Z
LAST-MODIFIED:20241010T171639Z
UID:7738-1729677600-1729684800@campusvirtual.colegio-escribanos.org.ar
SUMMARY:Taller de casos prácticos: Gestión\, estipulación y otras yerbas...
DESCRIPTION:  \nA cargo del equipo de docentes coordinado por la Esc. Sonia Lukaszewicz \nMiércoles 23 de octubre\, 10 a 12 horas \nBiblioteca\, 2° piso de Av. Callao 1542 \nVálido cumplimiento de los arts. 38 y 39 de la Ley 404 \nHaga clic aquí para inscribirse \n
URL:https://campusvirtual.colegio-escribanos.org.ar/index.php/event/taller-de-casos-practicos-gestion-estipulacion-y-otras-yerbas/
LOCATION:Av. Callao 1542\, 2º piso\, Ciudad de Buenos Aires\, 1424\, Argentina
CATEGORIES:Cursos presenciales,Cursos presenciales (Válidos Ley 404)
ORGANIZER;CN="Colegio%20de%20Escribanos%20de%20la%20Ciudad%20de%20Buenos%20Aires":MAILTO:cursos@colegio-escribanos.org.ar
END:VEVENT
END:VCALENDAR