BEGIN:VCALENDAR
VERSION:2.0
PRODID:-//Campus Virtual del Colegio de Escribanos de la Ciudad de Buenos Aires - ECPv4.6//NONSGML v1.0//EN
CALSCALE:GREGORIAN
METHOD:PUBLISH
X-WR-CALNAME:Campus Virtual del Colegio de Escribanos de la Ciudad de Buenos Aires
X-ORIGINAL-URL:https://campusvirtual.colegio-escribanos.org.ar
X-WR-CALDESC:Events for Campus Virtual del Colegio de Escribanos de la Ciudad de Buenos Aires
BEGIN:VEVENT
DTSTART;TZID=America/Argentina/Buenos_Aires:20250902T100000
DTEND;TZID=America/Argentina/Buenos_Aires:20250902T120000
DTSTAMP:20260420T233809
CREATED:20250814T133037Z
LAST-MODIFIED:20250819T160514Z
UID:8386-1756807200-1756814400@campusvirtual.colegio-escribanos.org.ar
SUMMARY:Taller: GEDONO. Uso de la herramienta
DESCRIPTION:📆 Martes 2 de septiembre\, 10 h\n📍Av. Las Heras 1833\, 7° piso\n🔉Disertantes: Escs. Maria Magdalena Tato y Joaquín Romero Pierri. \nLos colegas podrán participar acompañados por un colaborador de la escribanía. \n  👉Haga clic aquí para inscribirse  \nVálido cumplimiento de los artículos 38 y 39 de la Ley 404 \n
URL:https://campusvirtual.colegio-escribanos.org.ar/index.php/event/taller-gedono-uso-de-la-herramienta/
LOCATION:Av. Las Heras 1833\, Ciudad Autónoma de Buenos Aires\, Argentina
GEO:-34.591248;-58.392025
X-APPLE-STRUCTURED-LOCATION;VALUE=URI;X-ADDRESS=Av. Las Heras 1833 Ciudad Autónoma de Buenos Aires Argentina;X-APPLE-RADIUS=500;X-TITLE=Av. Las Heras 1833:geo:-58.392025,-34.591248
CATEGORIES:Cursos presenciales,Cursos presenciales (Válidos Ley 404)
ORGANIZER;CN="Colegio%20de%20Escribanos%20de%20la%20Ciudad%20de%20Buenos%20Aires":MAILTO:cursos@colegio-escribanos.org.ar
END:VEVENT
END:VCALENDAR