BEGIN:VCALENDAR
VERSION:2.0
PRODID:-//Campus Virtual del Colegio de Escribanos de la Ciudad de Buenos Aires - ECPv4.6//NONSGML v1.0//EN
CALSCALE:GREGORIAN
METHOD:PUBLISH
X-WR-CALNAME:Campus Virtual del Colegio de Escribanos de la Ciudad de Buenos Aires
X-ORIGINAL-URL:https://campusvirtual.colegio-escribanos.org.ar
X-WR-CALDESC:Events for Campus Virtual del Colegio de Escribanos de la Ciudad de Buenos Aires
BEGIN:VEVENT
DTSTART;TZID=America/Argentina/Buenos_Aires:20231030T100000
DTEND;TZID=America/Argentina/Buenos_Aires:20231030T120000
DTSTAMP:20260423T040413
CREATED:20231011T152311Z
LAST-MODIFIED:20231024T152919Z
UID:7108-1698660000-1698667200@campusvirtual.colegio-escribanos.org.ar
SUMMARY:Taller: Inmuebles e instrumentos financieros. Tratamiento Impositivo
DESCRIPTION:Criterios de AFIP: ITI y ganancias cedulares. Venta de Acciones y Cuotas. Fideicomisos y otros supuestos.\nLunes 30 de octubre\, 10 a 12 h | \nAv. Las Heras 1833\, 7° piso.\nExpositor: Cdor. Juan José Imirizaldu – Organiza: Instituto de Derecho Tributario – Moderadores: Escs. Natalia Di Virgilio y Julian G. Mantelli \nTEMARIO \nTransferencia de inmuebles \n\nEl impacto de la reforma efectuada por la Ley N° 27.430: ¿el Impuesto a las Ganancias o el Impuesto a la Transferencia de Inmuebles? ¿Cuál aplica? Situaciones mixtas y su viabilidad. \nImpuesto a las Ganancias. Criterio general considerando la naturaleza del vendedor (persona humana o sujeto empresa) y su residencia:\n\n– Base imponible.\n– Alícuota.\n– Procedimiento para el ingreso del impuesto.\n– Operaciones no comprendidas. \n\nFideicomisos. Supuestos en que corresponde asimilarlos a sociedades de capital. Transparencia. El supuesto en que el fiduciante posee la calidad de beneficiario. Fideicomisos inmobiliarios mixtos. Falta de dinero sobre la mesa y obligatoriedad de retención. \nOtros casos específicos de interés. División de condominio. Adjudicación de bienes en el marco de disolución de la sociedad conyugal. \n\nEnajenación de instrumentos financieros \nTratamiento en el impuesto a las ganancias a raíz de las modificaciones implementadas por las leyes 27.430 y 27.541. \nAntecedentes del disertante – Cdor. Juan José Imirizaldu\n\n\nContador Público. Especialista en Ingresos Públicos. Postgrado en Diseño y Evaluación de Políticas Públicas. \n\n\nDirector Nacional de Impuestos del Ministerio de Economía de la Nación. \n\n\nMiembro Activo de la Asociación Argentina de Estudios Fiscales.\n\n\n Profesor en Especializaciones y Maestrías en Tributación en diferentes Universidades del país y de la Diplomatura en Tributación del Consejo Profesional de Ciencias Económicas de la Ciudad Autónoma de Buenos Aires.\n\n\n Expositor en cursos y conferencias.\n\n\nHaga clic aquí para inscribirse \nVálido para el cumplimiento de los arts. 38 y 39 de la Ley 404 \n
URL:https://campusvirtual.colegio-escribanos.org.ar/index.php/event/taller-inmuebles-e-instrumentos-financieros-tratamiento-impositivo/
LOCATION:Av. Las Heras 1833\, Ciudad Autónoma de Buenos Aires\, Argentina
GEO:-34.591248;-58.392025
X-APPLE-STRUCTURED-LOCATION;VALUE=URI;X-ADDRESS=Av. Las Heras 1833 Ciudad Autónoma de Buenos Aires Argentina;X-APPLE-RADIUS=500;X-TITLE=Av. Las Heras 1833:geo:-58.392025,-34.591248
CATEGORIES:Cursos presenciales,Cursos presenciales (Válidos Ley 404)
ORGANIZER;CN="Colegio%20de%20Escribanos%20de%20la%20Ciudad%20de%20Buenos%20Aires":MAILTO:cursos@colegio-escribanos.org.ar
END:VEVENT
END:VCALENDAR