BEGIN:VCALENDAR
VERSION:2.0
PRODID:-//Campus Virtual del Colegio de Escribanos de la Ciudad de Buenos Aires - ECPv4.6//NONSGML v1.0//EN
CALSCALE:GREGORIAN
METHOD:PUBLISH
X-WR-CALNAME:Campus Virtual del Colegio de Escribanos de la Ciudad de Buenos Aires
X-ORIGINAL-URL:https://campusvirtual.colegio-escribanos.org.ar
X-WR-CALDESC:Events for Campus Virtual del Colegio de Escribanos de la Ciudad de Buenos Aires
BEGIN:VEVENT
DTSTART;TZID=America/Argentina/Buenos_Aires:20220426T093000
DTEND;TZID=America/Argentina/Buenos_Aires:20220426T113000
DTSTAMP:20260424T114922
CREATED:20220421T132703Z
LAST-MODIFIED:20220421T134436Z
UID:5878-1650965400-1650972600@campusvirtual.colegio-escribanos.org.ar
SUMMARY:Taller de Inspección de Protocolos
DESCRIPTION:Consultas y observaciones frecuentes\, formas de subsanación y pautas especiales de Inspección de Protocolos. \nA cargo del Dto. de Inspección de Protocolos \nDurante el encuentro disertarán las inspectoras Esc. Nadia Parra\, Esc. Andrea Carolina Peresan Martínez y Esc. Luciana Torres Dubecq\, con la participación de la Esc. María Verónica Fraga\, Jefa del Departamento.\n\nVálido arts. 38 y 39 de la ley 404.\n \nTemario:  \n\nOmisión del domicilio social y datos de la inscripción de la constitución de personas jurídicas.\nImpuesto inmobiliario complementario de la Provincia de Bs.As.\nRepresentación legal de menores de edad. Autorizaciones de viaje.\nCertificados registrales. Errores u omisiones en las constancias. Certificado de dominio: supuesto de extravío\, prioridad registral de otro registro.\nJustificación de identidad: credencial virtual de DNI\nEscritura pública: orden de nupcias y nombre del cónyuge de los comparecientes.\nConstancia documental de la lectura  (C.C.C.N. art. 305 inc. d)\nEpígrafe: errores u omisiones. Notas de apertura y cierre.\nErrose y escritura sin efecto. Sobreimpresión.\nDispensa de inscripción. Supuesto de Testamento\n\nHaga clic aquí para la inscripción al curso \n
URL:https://campusvirtual.colegio-escribanos.org.ar/index.php/event/taller-inspeccion-2022/
LOCATION:Av. Las Heras 1833\, Ciudad Autónoma de Buenos Aires\, Argentina
GEO:-34.591248;-58.392025
X-APPLE-STRUCTURED-LOCATION;VALUE=URI;X-ADDRESS=Av. Las Heras 1833 Ciudad Autónoma de Buenos Aires Argentina;X-APPLE-RADIUS=500;X-TITLE=Av. Las Heras 1833:geo:-58.392025,-34.591248
CATEGORIES:Cursos presenciales (Válidos Ley 404)
ORGANIZER;CN="Colegio%20de%20Escribanos%20de%20la%20Ciudad%20de%20Buenos%20Aires":MAILTO:cursos@colegio-escribanos.org.ar
END:VEVENT
END:VCALENDAR