BEGIN:VCALENDAR
VERSION:2.0
PRODID:-//Campus Virtual del Colegio de Escribanos de la Ciudad de Buenos Aires - ECPv4.6//NONSGML v1.0//EN
CALSCALE:GREGORIAN
METHOD:PUBLISH
X-WR-CALNAME:Campus Virtual del Colegio de Escribanos de la Ciudad de Buenos Aires
X-ORIGINAL-URL:https://campusvirtual.colegio-escribanos.org.ar
X-WR-CALDESC:Events for Campus Virtual del Colegio de Escribanos de la Ciudad de Buenos Aires
BEGIN:VEVENT
DTSTART;TZID=America/Argentina/Buenos_Aires:20231024T100000
DTEND;TZID=America/Argentina/Buenos_Aires:20231024T120000
DTSTAMP:20260423T052550
CREATED:20231003T131925Z
LAST-MODIFIED:20231006T145303Z
UID:7082-1698141600-1698148800@campusvirtual.colegio-escribanos.org.ar
SUMMARY:Taller: Negocios sobre acciones - Parte 2
DESCRIPTION:Martes 24 de octubre\, 10 a 12 h | Av. Las Heras 1833\, 7° piso \nA cargo de la Esc. María Acquarone y el Dr. Mariano Esper \nHaga clic aquí para inscribirse \nVálido para el cumplimiento de los arts. 38 y 39 de la Ley 404 \n
URL:https://campusvirtual.colegio-escribanos.org.ar/index.php/event/taller-negocio-sobre-acciones-parte-2/
LOCATION:Av. Las Heras 1833\, Ciudad Autónoma de Buenos Aires\, Argentina
GEO:-34.591248;-58.392025
X-APPLE-STRUCTURED-LOCATION;VALUE=URI;X-ADDRESS=Av. Las Heras 1833 Ciudad Autónoma de Buenos Aires Argentina;X-APPLE-RADIUS=500;X-TITLE=Av. Las Heras 1833:geo:-58.392025,-34.591248
CATEGORIES:Cursos presenciales (Válidos Ley 404)
ORGANIZER;CN="Colegio%20de%20Escribanos%20de%20la%20Ciudad%20de%20Buenos%20Aires":MAILTO:cursos@colegio-escribanos.org.ar
END:VEVENT
END:VCALENDAR