BEGIN:VCALENDAR
VERSION:2.0
PRODID:-//Campus Virtual del Colegio de Escribanos de la Ciudad de Buenos Aires - ECPv4.6//NONSGML v1.0//EN
CALSCALE:GREGORIAN
METHOD:PUBLISH
X-WR-CALNAME:Campus Virtual del Colegio de Escribanos de la Ciudad de Buenos Aires
X-ORIGINAL-URL:https://campusvirtual.colegio-escribanos.org.ar
X-WR-CALDESC:Events for Campus Virtual del Colegio de Escribanos de la Ciudad de Buenos Aires
BEGIN:VEVENT
DTSTART;TZID=America/Argentina/Buenos_Aires:20231117T100000
DTEND;TZID=America/Argentina/Buenos_Aires:20231117T120000
DTSTAMP:20260423T023823
CREATED:20231102T161647Z
LAST-MODIFIED:20231115T161420Z
UID:7131-1700215200-1700222400@campusvirtual.colegio-escribanos.org.ar
SUMMARY:Taller práctico: Inscripción digital de Documentos Notariales en el RPI (CABA)
DESCRIPTION:Viernes 17 de noviembre\, 10 h |  Av. Las Heras 1833\, 7° piso\nA cargo del Instituto de Derecho Registral y funcionarios del RPI CABA \nTemario: \n\nDinámica de los trámites registrales de inscripción y su avance tecnológico\nDiferencias entre el ingreso de documentos “papel” y las “Primeras Copias Digitales”\nImpacto de la precarga digital\, las consultas y las observaciones frecuentes\n\nHaga clic aquí para inscribirse \nVálidos cumplimiento de los artículos 38 y 39 de la Ley 404. \n
URL:https://campusvirtual.colegio-escribanos.org.ar/index.php/event/taller-practico-inscripcion-digital-de-documentos-notariales-en-rpi-caba/
LOCATION:Av. Las Heras 1833\, Ciudad Autónoma de Buenos Aires\, Argentina
GEO:-34.591248;-58.392025
X-APPLE-STRUCTURED-LOCATION;VALUE=URI;X-ADDRESS=Av. Las Heras 1833 Ciudad Autónoma de Buenos Aires Argentina;X-APPLE-RADIUS=500;X-TITLE=Av. Las Heras 1833:geo:-58.392025,-34.591248
CATEGORIES:Cursos presenciales,Cursos presenciales (Válidos Ley 404)
ORGANIZER;CN="Colegio%20de%20Escribanos%20de%20la%20Ciudad%20de%20Buenos%20Aires":MAILTO:cursos@colegio-escribanos.org.ar
END:VEVENT
END:VCALENDAR