BEGIN:VCALENDAR
VERSION:2.0
PRODID:-//Campus Virtual del Colegio de Escribanos de la Ciudad de Buenos Aires - ECPv4.6//NONSGML v1.0//EN
CALSCALE:GREGORIAN
METHOD:PUBLISH
X-WR-CALNAME:Campus Virtual del Colegio de Escribanos de la Ciudad de Buenos Aires
X-ORIGINAL-URL:https://campusvirtual.colegio-escribanos.org.ar
X-WR-CALDESC:Events for Campus Virtual del Colegio de Escribanos de la Ciudad de Buenos Aires
BEGIN:VEVENT
DTSTART;TZID=America/Argentina/Buenos_Aires:20231031T100000
DTEND;TZID=America/Argentina/Buenos_Aires:20231031T120000
DTSTAMP:20260423T024132
CREATED:20231018T144508Z
LAST-MODIFIED:20231018T144508Z
UID:7116-1698746400-1698753600@campusvirtual.colegio-escribanos.org.ar
SUMMARY:Taller: Propiedad Horizontal. Aspectos Prácticos. Modificación de Reglamento
DESCRIPTION:Expositora: Esc. Adriana Abella \nMartes 31 de octubre\, 10 a 12 h \n7° piso de Av. Las Heras 1833 \nHaga clic aquí para inscribirse \nVálido para el cumplimiento de los arts. 38 y 39 de la Ley 404 \n
URL:https://campusvirtual.colegio-escribanos.org.ar/index.php/event/taller-propiedad-horizontal-aspectos-practicos-modificacion-de-reglamento/
LOCATION:Av. Las Heras 1833\, Ciudad Autónoma de Buenos Aires\, Argentina
GEO:-34.591248;-58.392025
X-APPLE-STRUCTURED-LOCATION;VALUE=URI;X-ADDRESS=Av. Las Heras 1833 Ciudad Autónoma de Buenos Aires Argentina;X-APPLE-RADIUS=500;X-TITLE=Av. Las Heras 1833:geo:-58.392025,-34.591248
CATEGORIES:Cursos presenciales,Cursos presenciales (Válidos Ley 404)
ORGANIZER;CN="Colegio%20de%20Escribanos%20de%20la%20Ciudad%20de%20Buenos%20Aires":MAILTO:cursos@colegio-escribanos.org.ar
END:VEVENT
END:VCALENDAR