BEGIN:VCALENDAR
VERSION:2.0
PRODID:-//Campus Virtual del Colegio de Escribanos de la Ciudad de Buenos Aires - ECPv4.6//NONSGML v1.0//EN
CALSCALE:GREGORIAN
METHOD:PUBLISH
X-WR-CALNAME:Campus Virtual del Colegio de Escribanos de la Ciudad de Buenos Aires
X-ORIGINAL-URL:https://campusvirtual.colegio-escribanos.org.ar
X-WR-CALDESC:Events for Campus Virtual del Colegio de Escribanos de la Ciudad de Buenos Aires
BEGIN:VEVENT
DTSTART;TZID=America/Argentina/Buenos_Aires:20250603T100000
DTEND;TZID=America/Argentina/Buenos_Aires:20250603T120000
DTSTAMP:20260420T112314
CREATED:20250425T171411Z
LAST-MODIFIED:20250519T161049Z
UID:7987-1748944800-1748952000@campusvirtual.colegio-escribanos.org.ar
SUMMARY:Taller sobre donaciones y su vinculación con el fideicomiso y la partición\, en base a consultas frecuentes
DESCRIPTION:Los martes\, de 10 a 12 horas\, del 6 de mayo al 3 de junio\nHaga clic aquí para inscribirse  \n7° de Av. Las Heras 1833 \nOrganizan: Institutos de Derecho Notarial y de Derecho Civil y Comisión de Consultas Jurídicas \nDisertantes: miembros de los Institutos y Comisión organizadora. \nCronograma y temario \n*6 de mayo: Donaciones. Sujetos. Capacidad. Actuación de apoderados. Clases. Objeto y forma \n*13 de mayo: Reversión. Revocación. Oferta. Donaciones solidarias \n*20 de mayo: Donaciones inoficiosas. Conformidad. Art. 2461 \n*27 de mayo: El fideicomiso como medio de planificación del patrimonio familiar.\nInvitado Especial: Esc. Carlos M. D´Alessio \n*3 de junio: Partición. Partición por ascendiente. Análisis del fallo Zuccardi \nCada una de las fechas otorga 10 puntos para la capacitación obligatoria. \n
URL:https://campusvirtual.colegio-escribanos.org.ar/index.php/event/taller-sobre-donaciones-y-su-vinculacion-con-el-fideicomiso-y-la-particion-en-base-a-consultas-frecuentes/2025-06-03/
LOCATION:Av. Las Heras 1833\, Ciudad Autónoma de Buenos Aires\, Argentina
GEO:-34.591248;-58.392025
X-APPLE-STRUCTURED-LOCATION;VALUE=URI;X-ADDRESS=Av. Las Heras 1833 Ciudad Autónoma de Buenos Aires Argentina;X-APPLE-RADIUS=500;X-TITLE=Av. Las Heras 1833:geo:-58.392025,-34.591248
CATEGORIES:Cursos presenciales (Válidos Ley 404)
ORGANIZER;CN="Colegio%20de%20Escribanos%20de%20la%20Ciudad%20de%20Buenos%20Aires":MAILTO:cursos@colegio-escribanos.org.ar
END:VEVENT
END:VCALENDAR