BEGIN:VCALENDAR
VERSION:2.0
PRODID:-//Campus Virtual del Colegio de Escribanos de la Ciudad de Buenos Aires - ECPv4.6//NONSGML v1.0//EN
CALSCALE:GREGORIAN
METHOD:PUBLISH
X-WR-CALNAME:Campus Virtual del Colegio de Escribanos de la Ciudad de Buenos Aires
X-ORIGINAL-URL:https://campusvirtual.colegio-escribanos.org.ar
X-WR-CALDESC:Events for Campus Virtual del Colegio de Escribanos de la Ciudad de Buenos Aires
BEGIN:VEVENT
DTSTART;TZID=America/Argentina/Buenos_Aires:20240521T100000
DTEND;TZID=America/Argentina/Buenos_Aires:20240521T120000
DTSTAMP:20260422T200958
CREATED:20240514T150211Z
LAST-MODIFIED:20240521T164004Z
UID:7382-1716285600-1716292800@campusvirtual.colegio-escribanos.org.ar
SUMMARY:Talleres prácticos de análisis de casos 
DESCRIPTION:El Colegio lanza un nuevo formato de capacitación práctica orientada especialmente al abordaje de casos de estudio vinculados a la actividad notarial diaria. \nA través de una experiencia de formación grupal\, se busca profundizar conocimientos a partir de la resolución de un caso práctico que requiere la toma de decisiones relacionadas\, directa o indirectamente\, con la responsabilidad del escribano. \nPara ello\, los colegas trabajarán en equipo\, orientados por escribanos facilitadores\, especializados en este tipo de espacios de formación. \nLos encuentros se realizarán de manera quincenal y tendrán un cupo limitado de 18 escribanos que permita el trabajo grupal. Se realizarán en la Biblioteca del Colegio\, Av. Callao 1542\, 2° piso\, con el fin de que los asistentes tengan a disposición herramientas bibliográficas tanto en papel como digitales. \nHaga clic aquí para inscribirse \n
URL:https://campusvirtual.colegio-escribanos.org.ar/index.php/event/talleres-practicos-de-analisis-de-casos/
LOCATION:Av. Callao 1542\, 2º piso\, Ciudad de Buenos Aires\, 1424\, Argentina
CATEGORIES:Cursos presenciales,Cursos presenciales (Válidos Ley 404)
ORGANIZER;CN="Colegio%20de%20Escribanos%20de%20la%20Ciudad%20de%20Buenos%20Aires":MAILTO:cursos@colegio-escribanos.org.ar
END:VEVENT
END:VCALENDAR