BEGIN:VCALENDAR
VERSION:2.0
PRODID:-//Campus Virtual del Colegio de Escribanos de la Ciudad de Buenos Aires - ECPv4.6//NONSGML v1.0//EN
CALSCALE:GREGORIAN
METHOD:PUBLISH
X-WR-CALNAME:Campus Virtual del Colegio de Escribanos de la Ciudad de Buenos Aires
X-ORIGINAL-URL:https://campusvirtual.colegio-escribanos.org.ar
X-WR-CALDESC:Events for Campus Virtual del Colegio de Escribanos de la Ciudad de Buenos Aires
BEGIN:VEVENT
DTSTART;TZID=America/Argentina/Buenos_Aires:20230906T090000
DTEND;TZID=America/Argentina/Buenos_Aires:20230906T110000
DTSTAMP:20260423T065127
CREATED:20230829T154807Z
LAST-MODIFIED:20230906T131706Z
UID:7019-1693990800-1693998000@campusvirtual.colegio-escribanos.org.ar
SUMMARY:Talleres prácticos de informática | Sistema de Certificación Digital de Firmas (SDF)
DESCRIPTION:Miércoles 6 de septiembre\, 9 a 11 h\nAv. Las Heras 1833\, 8° piso.\nA cargo de la Comisión Asesora de Informática. \nEl escribano inscripto podrá optar por asistir acompañado por un colaborador o empleado de escribanía. \nLa incorporación de las tecnologías en las escribanías y en la actividad notarial implica un cambio cultural que exige la capacitación del escribano así como de sus colaboradores y empleados\, ya que hay un proceso de modernización que avanza vertiginosamente en el ámbito privado y público. \nEl Colegio continúa trabajando activamente para colaborar con el notariado en la incorporación de las nuevas tecnologías. Por esta razón\, el Consejo Directivo resolvió continuar con los talleres prácticos sobre el uso del Sistema de Certificación Digital de Firmas (SDF) para que tanto los escribanos como sus colaboradores puedan incorporar con facilidad esta herramienta. El objetivo es brindar información práctica sobre estos temas con el uso de una PC. Por cuestiones metodológicas\, se habilitarán únicamente 30 vacantes por curso\, ya que el objetivo es proporcionar un entrenamiento personalizado y práctico. \nTEMARIO: \n\nSistema de Certificación Digital de Firmas.\nLibro de requerimientos digital.\nCertificación de firma ológrafa en documentos electrónicos.\nCertificación de firmas en forma remota.\nUso de herramientas de identificación biométrica.\n\nLos talleres son gratuitos para los escribanos de la demarcación. \nIMPORTANTE: Es requisito de inscripción: \n\nContar con usuario y contraseña del Acceso Restringido.\nTraer un teléfono móvil en el que deberán traer instalada la app de Firmas del Colegio de Escribanos (si no la tuvieran instalada). No podrá instalarse la aplicación en el transcurso del taller\, deberán tenerla descargada previamente.\n\nHaga clic aquí para descargar el Reglamento Unificado de Certificación de Firmas \nHaga clic aquí para inscribirse \nEsta actividad otorga puntaje para el cumplimiento de los artículos 38 y 39 de la Ley 404.\n
URL:https://campusvirtual.colegio-escribanos.org.ar/index.php/event/talleres-practicos-de-informatica-para-escribanos-colaboradores-y-empleados-sistema-de-certificacion-digital-de-firmas-sdf/
LOCATION:Av. Las Heras 1833\, Ciudad Autónoma de Buenos Aires\, Argentina
GEO:-34.591248;-58.392025
X-APPLE-STRUCTURED-LOCATION;VALUE=URI;X-ADDRESS=Av. Las Heras 1833 Ciudad Autónoma de Buenos Aires Argentina;X-APPLE-RADIUS=500;X-TITLE=Av. Las Heras 1833:geo:-58.392025,-34.591248
CATEGORIES:Cursos presenciales,Cursos presenciales (Válidos Ley 404)
ORGANIZER;CN="Colegio%20de%20Escribanos%20de%20la%20Ciudad%20de%20Buenos%20Aires":MAILTO:cursos@colegio-escribanos.org.ar
END:VEVENT
END:VCALENDAR