BEGIN:VCALENDAR
VERSION:2.0
PRODID:-//Campus Virtual del Colegio de Escribanos de la Ciudad de Buenos Aires - ECPv4.6//NONSGML v1.0//EN
CALSCALE:GREGORIAN
METHOD:PUBLISH
X-WR-CALNAME:Campus Virtual del Colegio de Escribanos de la Ciudad de Buenos Aires
X-ORIGINAL-URL:https://campusvirtual.colegio-escribanos.org.ar
X-WR-CALDESC:Events for Campus Virtual del Colegio de Escribanos de la Ciudad de Buenos Aires
BEGIN:VEVENT
DTSTART;TZID=America/Argentina/Buenos_Aires:20190221T103000
DTEND;TZID=America/Argentina/Buenos_Aires:20190221T120000
DTSTAMP:20260420T140603
CREATED:20190130T140140Z
LAST-MODIFIED:20190130T140323Z
UID:4190-1550745000-1550750400@campusvirtual.colegio-escribanos.org.ar
SUMMARY:Talleres prácticos para Rúbrica de Libros
DESCRIPTION:Jueves 21 de febrero\, 10.30 a 12 horas \nAv. Las Heras 1833\, 8º piso \nEsta actividad otorga puntaje para el cumplimiento de los artículos 38 y 39 de la Ley 404 \nLa incorporación de las tecnologías en las escribanías y en la actividad notarial implica un cambio cultural que exige la capacitación del escribano\, así como la de sus colaboradores y empleados. El Sistema de Rúbrica de Libros a través del TAD fue un paso más en un proceso de modernización que avanza vertiginosamente en el ámbito privado y público. \nEn esta oportunidad se brindarán talleres prácticos sobre Rúbrica de Libros\, para incorporar con facilidad esta nueva modalidad. El objetivo es brindar información práctica sobre la realización del trámite. \nSe realizarán 4 cursos en el mes de febrero: cada uno de ellos contará con 20 vacantes. El escribano podrá asistir acompañado por un colaborador o empleado\, si así lo desea. Los talleres no son consecutivos y estarán a cargo de funcionarios de la IGJ\, integrantes de las Comisiones de Informática e Integración Profesional y del Instituto de Derecho Comercial. \nLos talleres son gratuitos para los escribanos de la demarcación. Los colegas que decidan asistir acompañados por un empleado deberán abonar $700 en las Cajas del Colegio\, hasta 48 h antes de la fecha del curso. La vacante quedará reservada únicamente luego de efectuarse el pago. \nIMPORTANTE: \n\nPara realizar el pago en las Cajas es necesario contar con el número de inscripción.\n• Para el ingreso al curso deberá presentarse el comprobante de pago.\n• No podrán concurrir colaboradores solos\, únicamente podrán hacerlo con el escribano.\n\nInscripción para escribanos de la Ciudad de Buenos Aires \nRogamos confirmar asistencia o inasistencia con tres días de anticipación al siguiente correo electrónico: cursos@colegio-escribanos.org.ar \nSe tomará asistencia antes del ingreso a cada clase y se registrará también la salida. Los plazos de tolerancia serán de 15 minutos luego del horario de ingreso a la clase y de 15 minutos antes del horario de finalización. \n
URL:https://campusvirtual.colegio-escribanos.org.ar/index.php/event/talleres-practicos-para-rubrica-de-libros-4/
LOCATION:Av. Las Heras 1833\, Ciudad Autónoma de Buenos Aires\, Argentina
GEO:-34.591248;-58.392025
X-APPLE-STRUCTURED-LOCATION;VALUE=URI;X-ADDRESS=Av. Las Heras 1833 Ciudad Autónoma de Buenos Aires Argentina;X-APPLE-RADIUS=500;X-TITLE=Av. Las Heras 1833:geo:-58.392025,-34.591248
CATEGORIES:Cursos presenciales (Válidos Ley 404)
ORGANIZER;CN="Colegio%20de%20Escribanos%20de%20la%20Ciudad%20de%20Buenos%20Aires":MAILTO:cursos@colegio-escribanos.org.ar
END:VEVENT
END:VCALENDAR