BEGIN:VCALENDAR
VERSION:2.0
PRODID:-//Campus Virtual del Colegio de Escribanos de la Ciudad de Buenos Aires - ECPv4.6//NONSGML v1.0//EN
CALSCALE:GREGORIAN
METHOD:PUBLISH
X-WR-CALNAME:Campus Virtual del Colegio de Escribanos de la Ciudad de Buenos Aires
X-ORIGINAL-URL:https://campusvirtual.colegio-escribanos.org.ar
X-WR-CALDESC:Events for Campus Virtual del Colegio de Escribanos de la Ciudad de Buenos Aires
BEGIN:VEVENT
DTSTART;TZID=America/Argentina/Buenos_Aires:20220927T113000
DTEND;TZID=America/Argentina/Buenos_Aires:20220927T133000
DTSTAMP:20260420T140544
CREATED:20220905T161153Z
LAST-MODIFIED:20220905T161153Z
UID:6180-1664278200-1664285400@campusvirtual.colegio-escribanos.org.ar
SUMMARY:Talller: GEDONO/ HASH/ Manipulación de documentos digitales
DESCRIPTION:Repaso de funcionalidades en el sistema GEDONO. Generación de copias para su inscripción en el RPI o con otros destinos. Distinción entre firma electrónica\, firma digital y firma ológrafa digitalizada. Implicancias en el uso de una y otra. Recepción y validación de documentos electrónicos. Uso de otras funcionalidades de uso práctico en la escribanía (generador de hash\, páginas web de utilidad\, etc). \nEstas actividades estarán a cargo de los integrantes de la Comisión de Informática\, con la colaboración de la Comisión de Integración Profesional\, y se realizarán en el 8º piso de Av. Las Heras 1833. \nLos talleres son gratuitos para los escribanos de la demarcación. \nIMPORTANTE: Son requisitos para la inscripción: \n· Contar con el usuario y clave del Acceso Restringido Único.\n· Para los talleres de SDF deben contar con un teléfono móvil en el que deberán: \n\nDesinstalar la app del Colegio de Escribanos si estuviera ya instalada.\nInstalar una app modo testing\, que deberán descargar específicamente para esta actividad. El instructivo para hacerlo se enviará a los inscriptos el día anterior al curso.\n\nEl teléfono en el que instalen la app de prueba no puede tener instalada la app de uso real. Por este motivo\, deberán desinstalar ANTES la app real en caso de contar con ella. \nAquellos colegas que no hayan cargado la app de prueba no podrán realizar las prácticas en el taller\, ya que no es posible realizar la instalación durante la actividad. \nHaga clic aquí para inscribirse al taller (seleccione día y horario deseado) \nHaga clic aquí para descargar el Reglamento Unificado de Certificación de Firmas \n\n
URL:https://campusvirtual.colegio-escribanos.org.ar/index.php/event/talller-gedono-hash-manipulacion-de-documentos-digitales-7/
LOCATION:Av. Las Heras 1833\, Ciudad Autónoma de Buenos Aires\, Argentina
GEO:-34.591248;-58.392025
X-APPLE-STRUCTURED-LOCATION;VALUE=URI;X-ADDRESS=Av. Las Heras 1833 Ciudad Autónoma de Buenos Aires Argentina;X-APPLE-RADIUS=500;X-TITLE=Av. Las Heras 1833:geo:-58.392025,-34.591248
CATEGORIES:Cursos presenciales,Cursos presenciales (Válidos Ley 404)
ORGANIZER;CN="Colegio%20de%20Escribanos%20de%20la%20Ciudad%20de%20Buenos%20Aires":MAILTO:cursos@colegio-escribanos.org.ar
END:VEVENT
END:VCALENDAR